BEGIN:VCALENDAR
VERSION:2.0
PRODID:-//Good Neighbors Group - ECPv6.15.20//NONSGML v1.0//EN
CALSCALE:GREGORIAN
METHOD:PUBLISH
X-WR-CALNAME:Good Neighbors Group
X-ORIGINAL-URL:https://goodneighborsgroup.org
X-WR-CALDESC:Events for Good Neighbors Group
REFRESH-INTERVAL;VALUE=DURATION:PT1H
X-Robots-Tag:noindex
X-PUBLISHED-TTL:PT1H
BEGIN:VTIMEZONE
TZID:UTC
BEGIN:STANDARD
TZOFFSETFROM:+0000
TZOFFSETTO:+0000
TZNAME:UTC
DTSTART:20200101T000000
END:STANDARD
END:VTIMEZONE
BEGIN:VEVENT
DTSTART;TZID=UTC:20230421T150000
DTEND;TZID=UTC:20230421T170000
DTSTAMP:20260424T070753
CREATED:20230405T181350Z
LAST-MODIFIED:20230411T172222Z
UID:6810-1682089200-1682096400@goodneighborsgroup.org
SUMMARY:Park Home - Drop & Shop
DESCRIPTION:Bring a bag of 4-15 items from your closet.  Drop it off at your Drop & Shop Event. Then shop the Noonday Collection at a discount. \nUse this link for the Online Invitation
URL:https://goodneighborsgroup.org/event/park-home-drop-shop/
CATEGORIES:GNG Sponsored Event
END:VEVENT
BEGIN:VEVENT
DTSTART;TZID=UTC:20230408T090000
DTEND;TZID=UTC:20230408T133000
DTSTAMP:20260424T070753
CREATED:20230405T005426Z
LAST-MODIFIED:20230405T205022Z
UID:6791-1680944400-1680960600@goodneighborsgroup.org
SUMMARY:WSA's first ANN-ual Day of Maintenance!
DESCRIPTION:Join us as we honor Ann Jackson’s legacy by working on several projects in her community\, Olde Severna Park.  After a morning of maintenance\, we’ll gather at the community beach for lunch and togetherness. \nMore details
URL:https://goodneighborsgroup.org/event/wsas-first-ann-ual-day-of-maintenance/
CATEGORIES:Community Event
ATTACH;FMTTYPE=image/png:https://goodneighborsgroup.org/wp-content/uploads/2023/04/Screenshot-2023-04-05-at-12.49.58-PM.png
END:VEVENT
BEGIN:VEVENT
DTSTART;TZID=UTC:20230325T090000
DTEND;TZID=UTC:20230325T163000
DTSTAMP:20260424T070753
CREATED:20230315T012925Z
LAST-MODIFIED:20230315T012925Z
UID:6629-1679734800-1679761800@goodneighborsgroup.org
SUMMARY:WSA'S 12th Annual Conference - Spring Into Action
DESCRIPTION:The 2022 Anne Arundel County Community Needs Assessment\, Poverty Amidst Plenty VII: Moving Forward Together\, contains collective quantitative and qualitative data from a variety of local\, state and national sources\, focus groups\, and more. \nFor more details click/touch here
URL:https://goodneighborsgroup.org/event/wsas-12th-annual-conference-spring-into-action-2/
CATEGORIES:Community Event
END:VEVENT
BEGIN:VEVENT
DTSTART;TZID=UTC:20230318T090000
DTEND;TZID=UTC:20230318T100000
DTSTAMP:20260424T070753
CREATED:20230315T205050Z
LAST-MODIFIED:20230315T205050Z
UID:6647-1679130000-1679133600@goodneighborsgroup.org
SUMMARY:A Pilates Place - Mat For Suicide Awareness
DESCRIPTION:March 16 will mark three years since our studios were forced to shut down due to the global COVID 19 pandemic. While the shut down has brought many good things our way – including the merger of our three studios – we still wish to acknowledge the struggles that illness\, loss and isolation has brought upon our close friends and family. \nOn Saturday March 18 at 9:00am we will be offering a Mental Health Pilates Mat class. \nVisit us for more details
URL:https://goodneighborsgroup.org/event/a-pilates-place-mat-for-suicide-awareness/
CATEGORIES:Community Event
ATTACH;FMTTYPE=image/png:https://goodneighborsgroup.org/wp-content/uploads/2023/03/Screenshot-2023-03-15-at-12.49.52-PM.png
END:VEVENT
BEGIN:VEVENT
DTSTART;TZID=UTC:20230318T080000
DTEND;TZID=UTC:20230318T160000
DTSTAMP:20260424T070753
CREATED:20230315T013426Z
LAST-MODIFIED:20230315T013426Z
UID:6631-1679126400-1679155200@goodneighborsgroup.org
SUMMARY:BD Provisions - Spring Pop-up
DESCRIPTION:Stop by to see the store. We will have coffee\, tea\, spices\, health and beauty products\, candy\, chocolate\, and snacks\, and Easter baskets
URL:https://goodneighborsgroup.org/event/bd-provisions-spring-pop-up/
CATEGORIES:Community Event
END:VEVENT
BEGIN:VEVENT
DTSTART;TZID=UTC:20230303T080000
DTEND;TZID=UTC:20230303T140000
DTSTAMP:20260424T070753
CREATED:20230110T230042Z
LAST-MODIFIED:20230228T225743Z
UID:6058-1677830400-1677852000@goodneighborsgroup.org
SUMMARY:Blood Drive
DESCRIPTION:Good Neighbors Group is helping AAMC Blood Donation Center to organize a blood drive at Severna Park Village (near Garry’s Grill). Thank you to all who have helped AAMC and our community by donating blood  during this wildly unwild time.  AAMC has an ongoing need for blood donations\, as blood lasts only 42 days. \nTo signup\, click/tap the link below \nDonate
URL:https://goodneighborsgroup.org/event/blood-drive-5/
CATEGORIES:Blood Drive,GNG Sponsored Event
END:VEVENT
BEGIN:VEVENT
DTSTART;TZID=UTC:20230225T090000
DTEND;TZID=UTC:20230225T120000
DTSTAMP:20260424T070753
CREATED:20230220T205144Z
LAST-MODIFIED:20230220T224337Z
UID:6519-1677315600-1677326400@goodneighborsgroup.org
SUMMARY:Waterford Park Meeting
DESCRIPTION:Come celebrate S(o)uper Bowl\, hear about changes to this year’s Earth Day Festival\, get your recycling\, composting and donation questions answered\, and find your own way to be part of the Neighborhood! \nContact Us
URL:https://goodneighborsgroup.org/event/waterford-park-meeting/
CATEGORIES:GNG Sponsored Event
END:VEVENT
BEGIN:VEVENT
DTSTART;TZID=UTC:20230222T180000
DTEND;TZID=UTC:20230222T200000
DTSTAMP:20260424T070753
CREATED:20230220T203901Z
LAST-MODIFIED:20230220T224509Z
UID:6510-1677088800-1677096000@goodneighborsgroup.org
SUMMARY:Cafe Mezzanotte Meeting
DESCRIPTION:Come celebrate S(o)uper Bowl\, hear about changes to this year’s Earth Day Festival\, get your recycling\, composting and donation questions answered\, and find your own way to be part of the Neighborhood!  The meeting will be held in the Lounge at Mezzanotte. \nEvite
URL:https://goodneighborsgroup.org/event/cafe-mezzanotte-meeting/
CATEGORIES:GNG Sponsored Event
END:VEVENT
BEGIN:VEVENT
DTSTART;TZID=UTC:20221217T150000
DTEND;TZID=UTC:20221217T160000
DTSTAMP:20260424T070753
CREATED:20221130T192319Z
LAST-MODIFIED:20221130T204107Z
UID:5972-1671289200-1671292800@goodneighborsgroup.org
SUMMARY:Bid At Silent Auction
DESCRIPTION:We are honored and grateful to Jing Ying Institute of Kung Fu and Tai Chi for selecting GNG as the beneficiary of their silent auction! \nSATURDAY\, 17 DECEMBER 2022 FROM 14:30-16:00\n\nSilent Auction for Good Neighbors Group\n\nJing Ying Institute of Kung Fu & Tai Chi
URL:https://goodneighborsgroup.org/event/jing-ying-silent-aution/
CATEGORIES:Community Event
END:VEVENT
BEGIN:VEVENT
DTSTART;TZID=UTC:20221209T080000
DTEND;TZID=UTC:20221209T140000
DTSTAMP:20260424T070753
CREATED:20220721T162712Z
LAST-MODIFIED:20220721T162712Z
UID:5858-1670572800-1670594400@goodneighborsgroup.org
SUMMARY:Blood Drive
DESCRIPTION:Good Neighbors Group is helping AAMC Blood Donation Center to organize a blood drive at Severna Park Village (near Garry’s Grill). Thank you to all who have helped AAMC and our community by donating blood  during this wildly unwild time.  AAMC has an ongoing need for blood donations\, as blood lasts only 42 days.
URL:https://goodneighborsgroup.org/event/blood-drive-4/
CATEGORIES:GNG Sponsored Event
END:VEVENT
BEGIN:VEVENT
DTSTART;TZID=UTC:20221207T080000
DTEND;TZID=UTC:20230315T170000
DTSTAMP:20260424T070753
CREATED:20221208T020019Z
LAST-MODIFIED:20230221T203818Z
UID:5990-1670400000-1678899600@goodneighborsgroup.org
SUMMARY:Coat Drive
DESCRIPTION:COATS | HATS | SCARFS | GLOVES \nWestern District P.A.C.T. Unit \nDecember through February\nDrop Off and Pick Up Location: Western District Police Station 8273 Telegraph Road\nPDWesternDistrictPACT@aacounty.org
URL:https://goodneighborsgroup.org/event/coat-drive/
CATEGORIES:Community Event
ATTACH;FMTTYPE=image/jpeg:https://goodneighborsgroup.org/wp-content/uploads/2022/12/Coat-drive-flier.jpg
END:VEVENT
BEGIN:VEVENT
DTSTART;TZID=UTC:20221207T080000
DTEND;TZID=UTC:20221215T170000
DTSTAMP:20260424T070753
CREATED:20221208T021047Z
LAST-MODIFIED:20221208T021047Z
UID:5995-1670400000-1671123600@goodneighborsgroup.org
SUMMARY:Christmas Toy Drive
DESCRIPTION:
URL:https://goodneighborsgroup.org/event/christmas-toy-drive/
CATEGORIES:Community Event
END:VEVENT
BEGIN:VEVENT
DTSTART;TZID=UTC:20221130T080000
DTEND;TZID=UTC:20221216T170000
DTSTAMP:20260424T070753
CREATED:20221130T192712Z
LAST-MODIFIED:20221130T204138Z
UID:5974-1669795200-1671210000@goodneighborsgroup.org
SUMMARY:Bid At Silent Auction
DESCRIPTION:We are honored and grateful to Jing Ying Institute of Kung Fu and Tai Chi for selecting GNG as the beneficiary of their silent auction!\nWhen: now through 3:30 at their holiday party December 17th\nHow to bid: stop by any time Jing Ying is open (suggested times: Mon-Fri 5pm-7pm\, Sat 9:30-12)\nAddress: 1195 Baltimore Annapolis Blvd\, #6\, Arnold\n\nWe need people to bid on items in the silent auction\, and we need donors.\nWe accept a variety of donations\, including gently used and re-gifted items (great if you are downsizing!) Everyone loves gift certificates from local businesses; so if you have a favorite business that you frequent\, please consider asking for a donation. If you are a regular customer\, you will probably get the best response. If you need it\, we have copies of a donation request letter that includes tax information.\nItems can be directly mailed to Jing Ying Institute or dropped off during class hours.
URL:https://goodneighborsgroup.org/event/donate-items-for-silent-auction/
CATEGORIES:Community Event
END:VEVENT
BEGIN:VEVENT
DTSTART;TZID=UTC:20221014T080000
DTEND;TZID=UTC:20221014T140000
DTSTAMP:20260424T070753
CREATED:20220721T162635Z
LAST-MODIFIED:20220721T162635Z
UID:5856-1665734400-1665756000@goodneighborsgroup.org
SUMMARY:Blood Drive
DESCRIPTION:Good Neighbors Group is helping AAMC Blood Donation Center to organize a blood drive at Severna Park Village (near Garry’s Grill). Thank you to all who have helped AAMC and our community by donating blood  during this wildly unwild time.  AAMC has an ongoing need for blood donations\, as blood lasts only 42 days.
URL:https://goodneighborsgroup.org/event/blood-drive-3/
CATEGORIES:GNG Sponsored Event
END:VEVENT
BEGIN:VEVENT
DTSTART;TZID=UTC:20220811T080000
DTEND;TZID=UTC:20220811T140000
DTSTAMP:20260424T070753
CREATED:20221202T130000Z
LAST-MODIFIED:20220721T162516Z
UID:5486-1660204800-1660226400@goodneighborsgroup.org
SUMMARY:Blood Drive
DESCRIPTION:Good Neighbors Group is helping AAMC Blood Donation Center to organize a blood drive at Severna Park Village (near Garry’s Grill). Thank you to all who have helped AAMC and our community by donating blood  during this wildly unwild time.  AAMC has an ongoing need for blood donations\, as blood lasts only 42 days.
URL:https://goodneighborsgroup.org/event/blood-drive-2/
CATEGORIES:GNG Sponsored Event
END:VEVENT
BEGIN:VEVENT
DTSTART;TZID=UTC:20220430T100000
DTEND;TZID=UTC:20220430T130000
DTSTAMP:20260424T070753
CREATED:20220430T140000Z
LAST-MODIFIED:20220415T025010Z
UID:5708-1651312800-1651323600@goodneighborsgroup.org
SUMMARY:Annual Earth Day Festival
DESCRIPTION:Put spring cleaning into real action with a mindset of sustainability and environmental awareness.  Take advantage of this one day event to dispose of your unwanted items while benefiting others and doing the least environmental harm\, and continue this mindset all year long. \nHere’s how to get involved
URL:https://goodneighborsgroup.org/event/annual-earth-day-festival/
CATEGORIES:GNG Sponsored Event
END:VEVENT
BEGIN:VEVENT
DTSTART;TZID=UTC:20220210T080000
DTEND;TZID=UTC:20220213T130000
DTSTAMP:20260424T070753
CREATED:20220210T130000Z
LAST-MODIFIED:20211130T220424Z
UID:4913-1644480000-1644757200@goodneighborsgroup.org
SUMMARY:S(o)uper Bowl 2022
DESCRIPTION:This event\, beginning the Thursday before the Super Bowl and culminating on Super Bowl Sunday\, is a fun competition between local neighborhoods to collect as much food as they can to restock local pantries at a time when shelves are bare.  Each participating neighborhood needs a Captain who can publicize the event and establish a neighborhood collection spot.  Items must be counted and delivered to the designated food pantry on Super Bowl Sunday. Winners are announced the following week in conjunction with Cafe Mezzanotte’s Community Partnership night where a portion of proceeds from all sales benefits GNG.  Make sure your neighborhood is represented! \nHere’s how to get involved
URL:https://goodneighborsgroup.org/event/souper-bowl-2022/
CATEGORIES:GNG Sponsored Event
END:VEVENT
BEGIN:VEVENT
DTSTART;TZID=UTC:20211223T163000
DTEND;TZID=UTC:20211223T190000
DTSTAMP:20260424T070753
CREATED:20211223T213000Z
LAST-MODIFIED:20211208T210845Z
UID:4975-1640277000-1640286000@goodneighborsgroup.org
SUMMARY:Volunteer Opportunity: West Annapolis Pop Up Pantry
DESCRIPTION:Due to the growing need in the community we are hosting a distribution the 2nd & 4th Thursday of December. \nCome the entire time or when you can arrive. \nUse this link to sign-up for one of the activities \nWe are located at Annapolis EP Church (710 Ridgley Avenue) Thank you!
URL:https://goodneighborsgroup.org/event/west-annapolis-pop-up-pantry-thursday-food-distribution-dec23/
CATEGORIES:Community Event
ATTACH;FMTTYPE=image/jpeg:https://goodneighborsgroup.org/wp-content/uploads/2021/12/food-distribution.jpg
END:VEVENT
BEGIN:VEVENT
DTSTART;TZID=UTC:20211216T110000
DTEND;TZID=UTC:20211216T140000
DTSTAMP:20260424T070753
CREATED:20211216T160000Z
LAST-MODIFIED:20211130T211917Z
UID:4849-1639652400-1639663200@goodneighborsgroup.org
SUMMARY:Hope Holiday Donation Drive Through
DESCRIPTION:Hope House Treatment Centers and the University of Maryland College of Behavioral and Social Services’ “A Drive\nto Feminize” invite you to make a difference this holiday season by donating personal and self-care items for\nthose who are experiencing mental health and substance abuse disorders. For more information\, please contact\nCarol Boyer at 443-591-2070 or via e-mail at carolaboyer119@gmail.com.
URL:https://goodneighborsgroup.org/event/hope-holiday-donation-drive-through/
CATEGORIES:Community Event
ATTACH;FMTTYPE=image/jpeg:https://goodneighborsgroup.org/wp-content/uploads/2021/11/Hope-Toiletry-Collection.jpg
END:VEVENT
BEGIN:VEVENT
DTSTART;TZID=UTC:20211212T080000
DTEND;TZID=UTC:20211212T093000
DTSTAMP:20260424T070753
CREATED:20211210T025038Z
LAST-MODIFIED:20211210T025038Z
UID:5002-1639296000-1639301400@goodneighborsgroup.org
SUMMARY:Blended Essentials Gift Bags for Moms Assembly Party
DESCRIPTION:The Blended Essentials needs YOUR support to assemble gift bags for our fellow community members that are struggling this holiday season. \nWe are going to put together pamper packages for 175 Moms this holiday season.  We will include BE soaps\, hand sanitizer and shower blasts. \nJoin us for an assembling party\nSunday\, December 12th from 8:00-9:30 am.   \nAny extra treats would be great to add to the bags\, such as; \nSocks\nGloves or Hats\nCandy or Cookies\nTea or Hot Chocolate\nNail Files\nBE creative \nIf you are unable to make it on Sunday\, yet would like to contribute to the gift bags\, please drop off donations by 6 PM Saturday.  No need to try to get 175 items…choose to donate 5+ items.  Unique bags will be created for each Mom. \nWe will be donating the gift bags to Severing People Across Neighborhoods (SPAN) who will add to their food donations this holiday season.
URL:https://goodneighborsgroup.org/event/blended-essentials-gift-bags-for-moms-assembly-party/
CATEGORIES:Community Event
ATTACH;FMTTYPE=image/png:https://goodneighborsgroup.org/wp-content/uploads/2020/08/blended-essentials.png
END:VEVENT
BEGIN:VEVENT
DTSTART;TZID=UTC:20211209T163000
DTEND;TZID=UTC:20211209T190000
DTSTAMP:20260424T070753
CREATED:20211209T213000Z
LAST-MODIFIED:20211208T210902Z
UID:4970-1639067400-1639076400@goodneighborsgroup.org
SUMMARY:Volunteer Opportunity: West Annapolis Pop Up Pantry
DESCRIPTION:Due to the growing need in the community we are hosting a distribution the 2nd & 4th Thursday of December. \nCome the entire time or when you can arrive. \nUse this link to sign-up for one of the activities \nWe are located at Annapolis EP Church (710 Ridgley Avenue) Thank you!
URL:https://goodneighborsgroup.org/event/west-annapolis-pop-up-pantry-thursday-food-distribution/
CATEGORIES:Community Event
ATTACH;FMTTYPE=image/jpeg:https://goodneighborsgroup.org/wp-content/uploads/2021/12/food-distribution.jpg
END:VEVENT
BEGIN:VEVENT
DTSTART;TZID=UTC:20211208T080000
DTEND;TZID=UTC:20211215T170000
DTSTAMP:20260424T070753
CREATED:20211208T130000Z
LAST-MODIFIED:20211208T053531Z
UID:4959-1638950400-1639587600@goodneighborsgroup.org
SUMMARY:MDRRC Holiday Gift Collection
DESCRIPTION:Help our partner\, Maryland Reentry Resource Center\, provide 205 Annapolis students with holiday gifts. \nPlease drop off your donations now through December 15 at Park Books and Literacy Lab in Severna Park.
URL:https://goodneighborsgroup.org/event/mdrrc-holiday-gift-collection/
CATEGORIES:GNG Sponsored Event
ATTACH;FMTTYPE=image/jpeg:https://goodneighborsgroup.org/wp-content/uploads/2021/12/mdrrc.jpeg
END:VEVENT
BEGIN:VEVENT
DTSTART;TZID=UTC:20211207T160000
DTEND;TZID=UTC:20211221T170000
DTSTAMP:20260424T070753
CREATED:20211207T210000Z
LAST-MODIFIED:20211208T052556Z
UID:4955-1638892800-1640106000@goodneighborsgroup.org
SUMMARY:Girl Scouts: Christmas Cookies
DESCRIPTION:Once again we are baking cookies for the homeless in and around Baltimore and Washington DC. These cookies are delivered to the shelters along with Back packs on Christmas Eve. The back packs contain a sweatshirt\, long underwear\, hat\, mittens\, and a few other necessities. \nThis is just a small way we can bring brightness to those in need. \nNOTE: This year due to COVID-19 when you bake your cookies \, please bag them into small zip lock bags of 4-5 cookies per bag (we did it this way last year and it worked well!). \nPlease use this link to sign-up to donate. \nIf you have cookies before then\, cookies can be dropped off at Mimi Shea’s house in Severna Park. 612 Old County Road\, driveway is on Edgewater lane\, 1st house on the left coming up the drive\, go around the back of the house and you can put cookies on the screened in porch. thanks!
URL:https://goodneighborsgroup.org/event/girl-scouts-christmas-cookies/
CATEGORIES:Community Event
ATTACH;FMTTYPE=image/jpeg:https://goodneighborsgroup.org/wp-content/uploads/2021/12/christmas-cookies-2021.jpg
END:VEVENT
BEGIN:VEVENT
DTSTART;TZID=UTC:20211207T080000
DTEND;TZID=UTC:20211220T170000
DTSTAMP:20260424T070753
CREATED:20211207T204053Z
LAST-MODIFIED:20211207T204053Z
UID:4952-1638864000-1640019600@goodneighborsgroup.org
SUMMARY:We Care Holiday Toy and Clothing Drive
DESCRIPTION:How can you support hundreds of kids in Annapolis families during the holidays? \nBy Monday\, December 20th:\nSign into your own Amazon account\nClick on this Amazon Smile for We Care Link \nDonate unwrapped toys and warm clothing online that will be delivered directly to our office.\nThis year\, We Care has spread its wings to multiple new communities and would like to continue to offer holiday bags to families with toys\, games\, books\, and warm clothing. \nThank you for your ongoing support as We Care continues to be the safety net for these families.
URL:https://goodneighborsgroup.org/event/we-care-holiday-toy-and-clothing-drive/
CATEGORIES:Community Event
ATTACH;FMTTYPE=image/png:https://goodneighborsgroup.org/wp-content/uploads/2021/12/Clothing-Drive-2021.png
END:VEVENT
BEGIN:VEVENT
DTSTART;TZID=UTC:20211203T080000
DTEND;TZID=UTC:20211203T140000
DTSTAMP:20260424T070753
CREATED:20211203T130000Z
LAST-MODIFIED:20211123T031358Z
UID:4799-1638518400-1638540000@goodneighborsgroup.org
SUMMARY:Blood Drive
DESCRIPTION:The next Blood Drive is on December 3 from 8:00 am to 2:00 pm.  Please use this link to sign up. \n 
URL:https://goodneighborsgroup.org/event/blood-drive/
CATEGORIES:Blood Drive
ATTACH;FMTTYPE=image/jpeg:https://goodneighborsgroup.org/wp-content/uploads/2021/12/BLOOD_DRIVE.jpg
END:VEVENT
BEGIN:VEVENT
DTSTART;TZID=UTC:20211130T080000
DTEND;TZID=UTC:20211231T170000
DTSTAMP:20260424T070753
CREATED:20211130T130000Z
LAST-MODIFIED:20211130T231800Z
UID:4919-1638259200-1640970000@goodneighborsgroup.org
SUMMARY:Buenos Vecinos' Annual Christmas Basket Drive
DESCRIPTION:When you think about giving holiday gifts remember our children and families here in rural Guatemala.  We really need your help with food baskets and toys for kids. A gift of any amount will be so appreciated. \nYou can make your donation here.
URL:https://goodneighborsgroup.org/event/beunos-vecinos-annual-christmas-basket-drive/
CATEGORIES:Community Event
ATTACH;FMTTYPE=image/jpeg:https://goodneighborsgroup.org/wp-content/uploads/2021/11/beunos-vecinos-xmas-drive.jpeg
END:VEVENT
BEGIN:VEVENT
DTSTART;TZID=UTC:20211130T080000
DTEND;TZID=UTC:20211222T170000
DTSTAMP:20260424T070753
CREATED:20211130T130000Z
LAST-MODIFIED:20211130T211931Z
UID:4855-1638259200-1640192400@goodneighborsgroup.org
SUMMARY:GS Troop 10300 New and Used Hats and Gloves collection
DESCRIPTION:We are collection new and gently used hats and gloves to keep families at We Care and Friends warm this holiday season. Information for this collection is available within the flyer image above.
URL:https://goodneighborsgroup.org/event/gs-troop-10300-new-and-used-hats-and-gloves-collection/
CATEGORIES:Community Event
END:VEVENT
BEGIN:VEVENT
DTSTART;TZID=UTC:20211126T080000
DTEND;TZID=UTC:20220131T170000
DTSTAMP:20260424T070753
CREATED:20211126T130000Z
LAST-MODIFIED:20211130T211943Z
UID:4846-1637913600-1643648400@goodneighborsgroup.org
SUMMARY:Recycle Holiday Lights At Mom's
DESCRIPTION:Recycle any non-working Christmas lights from November 26\, 2021 through January 31\, 2022 at any MOMs Market
URL:https://goodneighborsgroup.org/event/recycle-holiday-lights-at-moms/
CATEGORIES:Community Event
ATTACH;FMTTYPE=image/jpeg:https://goodneighborsgroup.org/wp-content/uploads/2021/11/ight_recycling.jpeg
END:VEVENT
BEGIN:VEVENT
DTSTART;TZID=UTC:20211103T080000
DTEND;TZID=UTC:20211121T170000
DTSTAMP:20260424T070753
CREATED:20211103T120000Z
LAST-MODIFIED:20211103T202145Z
UID:4696-1635926400-1637514000@goodneighborsgroup.org
SUMMARY:Share Your Coats
DESCRIPTION:Share Your Coats for men\, women and children! \nThrough November 21st\, GNG will collect coats to help folks stay warm this winter. Coats will be shared with Anne Arundel County families through Maryland Reentry Resource Center and with refugee families in Baltimore through Asylee Women Enterprise. Drop off at Garry’s Grill or The Big Bean through 11/21.
URL:https://goodneighborsgroup.org/event/share-your-coats/
CATEGORIES:GNG Sponsored Event
ATTACH;FMTTYPE=image/jpeg:https://goodneighborsgroup.org/wp-content/uploads/2021/11/Winter-Coat-Drive.jpg
END:VEVENT
BEGIN:VEVENT
DTSTART;TZID=UTC:20211103T080000
DTEND;TZID=UTC:20211119T170000
DTSTAMP:20260424T070753
CREATED:20211103T120000Z
LAST-MODIFIED:20211104T225334Z
UID:4704-1635926400-1637341200@goodneighborsgroup.org
SUMMARY:Food Drive
DESCRIPTION:Thanks to all of you\, we’re helping 165 families enjoy a Thanksgiving dinner!  We need your donations at Park Books and Literacy Lab by Friday\, November 19th. Use the link below for details.  We’d love your extra reusable grocery bags\, too! \nThanksgiving Food Sign Up
URL:https://goodneighborsgroup.org/event/thanksgiving-food-drive/
CATEGORIES:GNG Sponsored Event
ATTACH;FMTTYPE=image/png:https://goodneighborsgroup.org/wp-content/uploads/2021/11/Screen-Shot-2021-11-02-at-7.03.24-PM.png
END:VEVENT
END:VCALENDAR