BEGIN:VCALENDAR
VERSION:2.0
PRODID:-//Good Neighbors Group - ECPv6.15.20//NONSGML v1.0//EN
CALSCALE:GREGORIAN
METHOD:PUBLISH
X-ORIGINAL-URL:https://goodneighborsgroup.org
X-WR-CALDESC:Events for Good Neighbors Group
REFRESH-INTERVAL;VALUE=DURATION:PT1H
X-Robots-Tag:noindex
X-PUBLISHED-TTL:PT1H
BEGIN:VTIMEZONE
TZID:UTC
BEGIN:STANDARD
TZOFFSETFROM:+0000
TZOFFSETTO:+0000
TZNAME:UTC
DTSTART:20220101T000000
END:STANDARD
END:VTIMEZONE
BEGIN:VEVENT
DTSTART;TZID=UTC:20240906T080000
DTEND;TZID=UTC:20240906T140000
DTSTAMP:20260424T011211
CREATED:20240210T192417Z
LAST-MODIFIED:20240830T195306Z
UID:7871-1725609600-1725631200@goodneighborsgroup.org
SUMMARY:Blood Drive
DESCRIPTION:Good Neighbors Group is helping AAMC Blood Donation Center to organize a blood drive at Severna Park Village (near Garry’s Grill). Thank you to all who have helped AAMC and our community by donating blood  during this wildly unwild time.  AAMC has an ongoing need for blood donations\, as blood lasts only 42 days. \nFriday\, September 6\, 2024 \nTo signup\, click/tap the link. \nhttps://calendly.com/luminishealthdrives/good-neighbors-group-blood-drive-severna-park \n 
URL:https://goodneighborsgroup.org/event/blood-drive-12/
CATEGORIES:Blood Drive
END:VEVENT
BEGIN:VEVENT
DTSTART;TZID=UTC:20240903T083000
DTEND;TZID=UTC:20240903T103000
DTSTAMP:20260424T011211
CREATED:20240812T202650Z
LAST-MODIFIED:20240813T010325Z
UID:9094-1725352200-1725359400@goodneighborsgroup.org
SUMMARY:Roast & Toast: Parents' Morning Out
DESCRIPTION:You got your kids back to school! Join us for coffee and non-alcoholic cocktails\, shopping\, a Tai Chi demonstration\, chair massage\, and a make and take your own oyster craft.  This is being held at BD Provisions\, 844 Ritchie Highway\, Severna Park.
URL:https://goodneighborsgroup.org/event/roast-toast-parents-morning-out/
CATEGORIES:GNG Partner Event
END:VEVENT
BEGIN:VEVENT
DTSTART;TZID=UTC:20240821T160000
DTEND;TZID=UTC:20240821T190000
DTSTAMP:20260424T011211
CREATED:20240805T215813Z
LAST-MODIFIED:20240813T010216Z
UID:9064-1724256000-1724266800@goodneighborsgroup.org
SUMMARY:Brusters\, Severna Park - GNG Fundraiser
DESCRIPTION:Come out and join us for a fundraising event at Bruster’s in Severna Park.  We will be meeting from 4:00 pm to 7:00 pm at their location – 160 Ritchie Highway\, Suite A12\, Severna Park. \nCheck out Bruster’s range of ice creams\, sherbets\, sorbets and ices here.
URL:https://goodneighborsgroup.org/event/brusters-severna-park-gng-fundraiser/
CATEGORIES:GNG Partner Event
END:VEVENT
BEGIN:VEVENT
DTSTART;TZID=UTC:20240806T180000
DTEND;TZID=UTC:20240806T200000
DTSTAMP:20260424T011211
CREATED:20240803T203228Z
LAST-MODIFIED:20240803T203900Z
UID:9056-1722967200-1722974400@goodneighborsgroup.org
SUMMARY:National Night Out Eastern District
DESCRIPTION:National Night Out culminates annually on the first Tuesday in August. National Night Out enhances the relationship between neighbors and law enforcement while bringing back a true sense of community. Furthermore\, it provides a great opportunity to bring police and neighbors together under positive circumstances. The state of Texas and select areas celebrate the first Tuesday in October. \nEvent Details \n 
URL:https://goodneighborsgroup.org/event/national-night-out-eastern-district/
CATEGORIES:Community Event
ATTACH;FMTTYPE=image/webp:https://goodneighborsgroup.org/wp-content/uploads/2024/08/rsw_984h_984.webp
END:VEVENT
BEGIN:VEVENT
DTSTART;TZID=UTC:20240712T080000
DTEND;TZID=UTC:20240712T140000
DTSTAMP:20260424T011211
CREATED:20240210T192310Z
LAST-MODIFIED:20240409T203827Z
UID:7869-1720771200-1720792800@goodneighborsgroup.org
SUMMARY:Blood Drive
DESCRIPTION:Good Neighbors Group is helping AAMC Blood Donation Center to organize a blood drive at Severna Park Village (near Garry’s Grill). Thank you to all who have helped AAMC and our community by donating blood  during this wildly unwild time.  AAMC has an ongoing need for blood donations\, as blood lasts only 42 days. \nFriday\, July 12\, 2024 \nTo signup\, click/tap the link. \nhttps://calendly.com/luminishealthdrives/good-neighbors-group-blood-drive-severna-park-clone
URL:https://goodneighborsgroup.org/event/blood-drive-11/
CATEGORIES:Blood Drive
ATTACH;FMTTYPE=image/jpeg:https://goodneighborsgroup.org/wp-content/uploads/2023/08/IMG_1961-sm.jpg
END:VEVENT
BEGIN:VEVENT
DTSTART;TZID=UTC:20240510T080000
DTEND;TZID=UTC:20240510T140000
DTSTAMP:20260424T011211
CREATED:20240210T192025Z
LAST-MODIFIED:20240409T203722Z
UID:7867-1715328000-1715349600@goodneighborsgroup.org
SUMMARY:Blood Drive
DESCRIPTION:Good Neighbors Group is helping AAMC Blood Donation Center to organize a blood drive at Severna Park Village (near Garry’s Grill). Thank you to all who have helped AAMC and our community by donating blood  during this wildly unwild time.  AAMC has an ongoing need for blood donations\, as blood lasts only 42 days. \nFriday\, May 10\, 2024 \nTo signup\, click/tap the link. \nhttps://calendly.com/luminishealthdrives/good-neighbors-bd
URL:https://goodneighborsgroup.org/event/blood-drive-10/
CATEGORIES:Blood Drive
ATTACH;FMTTYPE=image/jpeg:https://goodneighborsgroup.org/wp-content/uploads/2023/08/IMG_1961-sm.jpg
END:VEVENT
BEGIN:VEVENT
DTSTART;TZID=UTC:20240301T080000
DTEND;TZID=UTC:20240301T140000
DTSTAMP:20260424T011211
CREATED:20230803T163933Z
LAST-MODIFIED:20240210T191828Z
UID:7256-1709280000-1709301600@goodneighborsgroup.org
SUMMARY:Blood Drive
DESCRIPTION:Good Neighbors Group is helping AAMC Blood Donation Center to organize a blood drive at Severna Park Village (near Garry’s Grill). Thank you to all who have helped AAMC and our community by donating blood  during this wildly unwild time.  AAMC has an ongoing need for blood donations\, as blood lasts only 42 days. \nFriday\, March 1\, 2024 \nTo signup\, click/tap the link. \nhttps://www.signupgenius.com/go/20F084CABA92EA5FB6-47885421-good#/
URL:https://goodneighborsgroup.org/event/blood-drive-9/
CATEGORIES:Blood Drive
ATTACH;FMTTYPE=image/jpeg:https://goodneighborsgroup.org/wp-content/uploads/2023/08/IMG_1961-sm.jpg
END:VEVENT
BEGIN:VEVENT
DTSTART;TZID=UTC:20240208T080000
DTEND;TZID=UTC:20240211T170000
DTSTAMP:20260424T011211
CREATED:20231206T225614Z
LAST-MODIFIED:20231206T225723Z
UID:7699-1707379200-1707670800@goodneighborsgroup.org
SUMMARY:S(o)uper Bowl Food Drive 2024
DESCRIPTION:This event\, beginning the Thursday before the Super Bowl and culminating on Super Bowl Sunday\, is a fun competition between local neighborhoods to collect as much food as they can to restock local pantries at a time when shelves are depleted after the winter holidays.
URL:https://goodneighborsgroup.org/event/souper-bowl-food-drive-2024/
CATEGORIES:GNG Sponsored Event
END:VEVENT
BEGIN:VEVENT
DTSTART;TZID=UTC:20231125T093000
DTEND;TZID=UTC:20231125T113000
DTSTAMP:20260424T011211
CREATED:20231031T172924Z
LAST-MODIFIED:20231031T181959Z
UID:7510-1700904600-1700911800@goodneighborsgroup.org
SUMMARY:The Cleanup CREW
DESCRIPTION:Join the CREW any Saturday to pick up litter around Severna Park. Location changes according to where there’s the greatest need. Bring gloves and paper bags\, a reacher/grabber if you have one. Please check their link for location and any last minute changes. https://www.facebook.com/profile.php?id=100092410900583
URL:https://goodneighborsgroup.org/event/the-cleanup-crew-4/
CATEGORIES:Community Event
ATTACH;FMTTYPE=image/jpeg:https://goodneighborsgroup.org/wp-content/uploads/2023/10/cleanup-crew.jpg
END:VEVENT
BEGIN:VEVENT
DTSTART;TZID=UTC:20231118T093000
DTEND;TZID=UTC:20231118T113000
DTSTAMP:20260424T011211
CREATED:20231031T172905Z
LAST-MODIFIED:20231031T182013Z
UID:7508-1700299800-1700307000@goodneighborsgroup.org
SUMMARY:The Cleanup CREW
DESCRIPTION:Join the CREW any Saturday to pick up litter around Severna Park. Location changes according to where there’s the greatest need. Bring gloves and paper bags\, a reacher/grabber if you have one. Please check their link for location and any last minute changes. https://www.facebook.com/profile.php?id=100092410900583
URL:https://goodneighborsgroup.org/event/the-cleanup-crew-3/
CATEGORIES:Community Event
ATTACH;FMTTYPE=image/jpeg:https://goodneighborsgroup.org/wp-content/uploads/2023/10/cleanup-crew.jpg
END:VEVENT
BEGIN:VEVENT
DTSTART;TZID=UTC:20231111T093000
DTEND;TZID=UTC:20231111T113000
DTSTAMP:20260424T011211
CREATED:20231031T172847Z
LAST-MODIFIED:20231031T182027Z
UID:7506-1699695000-1699702200@goodneighborsgroup.org
SUMMARY:The Cleanup CREW
DESCRIPTION:Join the CREW any Saturday to pick up litter around Severna Park. Location changes according to where there’s the greatest need. Bring gloves and paper bags\, a reacher/grabber if you have one. Please check their link for location and any last minute changes. https://www.facebook.com/profile.php?id=100092410900583
URL:https://goodneighborsgroup.org/event/the-cleanup-crew-2/
CATEGORIES:Community Event
ATTACH;FMTTYPE=image/jpeg:https://goodneighborsgroup.org/wp-content/uploads/2023/10/cleanup-crew.jpg
END:VEVENT
BEGIN:VEVENT
DTSTART;TZID=UTC:20231104T093000
DTEND;TZID=UTC:20231104T113000
DTSTAMP:20260424T011211
CREATED:20231031T172804Z
LAST-MODIFIED:20231031T182041Z
UID:7503-1699090200-1699097400@goodneighborsgroup.org
SUMMARY:The Cleanup CREW
DESCRIPTION:Join the CREW any Saturday to pick up litter around Severna Park. Location changes according to where there’s the greatest need. Bring gloves and paper bags\, a reacher/grabber if you have one. Please check their link for location and any last minute changes. https://www.facebook.com/profile.php?id=100092410900583
URL:https://goodneighborsgroup.org/event/the-cleanup-crew/
CATEGORIES:Community Event
ATTACH;FMTTYPE=image/jpeg:https://goodneighborsgroup.org/wp-content/uploads/2023/10/cleanup-crew.jpg
END:VEVENT
BEGIN:VEVENT
DTSTART;TZID=UTC:20231103T080000
DTEND;TZID=UTC:20231103T140000
DTSTAMP:20260424T011211
CREATED:20230803T163602Z
LAST-MODIFIED:20230920T171829Z
UID:7253-1698998400-1699020000@goodneighborsgroup.org
SUMMARY:Blood Drive
DESCRIPTION:Good Neighbors Group is helping AAMC Blood Donation Center to organize a blood drive at Severna Park Village (near Garry’s Grill). Thank you to all who have helped AAMC and our community by donating blood  during this wildly unwild time.  AAMC has an ongoing need for blood donations\, as blood lasts only 42 days. \nFriday\, November 11\, 2023 \nTo signup\, click/tap the link. \nhttps://www.signupgenius.com/go/20f084caba92ea5fb6-good11#/
URL:https://goodneighborsgroup.org/event/blood-drive-8/
CATEGORIES:Blood Drive
ATTACH;FMTTYPE=image/jpeg:https://goodneighborsgroup.org/wp-content/uploads/2023/08/IMG_1961-sm.jpg
END:VEVENT
BEGIN:VEVENT
DTSTART;TZID=UTC:20231021T110000
DTEND;TZID=UTC:20231021T130000
DTSTAMP:20260424T011211
CREATED:20231011T191013Z
LAST-MODIFIED:20231011T191013Z
UID:7414-1697886000-1697893200@goodneighborsgroup.org
SUMMARY:Pluto's Garden Work Day
DESCRIPTION:This will be weather dependent – so please keep an eye out for schedule changes. Bring shovels (hand held and long handled)\, clippers and gloves. \nMore info needed? julie@goodneighborsgroup.org
URL:https://goodneighborsgroup.org/event/plutos-garden-work-day/
ATTACH;FMTTYPE=image/jpeg:https://goodneighborsgroup.org/wp-content/uploads/2023/10/gardening-2545172363.jpeg
END:VEVENT
BEGIN:VEVENT
DTSTART;TZID=UTC:20231012T080000
DTEND;TZID=UTC:20231014T170000
DTSTAMP:20260424T011211
CREATED:20231011T190253Z
LAST-MODIFIED:20231011T190545Z
UID:7410-1697097600-1697302800@goodneighborsgroup.org
SUMMARY:Tru Earth - Do Something Nice Days
DESCRIPTION:This fundraiser will add an addition 10%  to earn 30% when you order a product that will go to the organization you are supporting. You can feel good knowing you are helping your organization\, and purchasing products that help save the environment. \nhttp://tru-earth.sjv.io/GoodNeighborsGroup
URL:https://goodneighborsgroup.org/event/tru-earth-do-something-nice-days/
END:VEVENT
BEGIN:VEVENT
DTSTART;TZID=UTC:20230922T080000
DTEND;TZID=UTC:20230924T170000
DTSTAMP:20260424T011211
CREATED:20230922T003714Z
LAST-MODIFIED:20231011T190057Z
UID:7381-1695369600-1695574800@goodneighborsgroup.org
SUMMARY:Tru Earth - Celebrate Autumn
DESCRIPTION:This fundraiser will add an addition 10%  to earn 30% when you order a product that will go to the organization you are supporting. You can feel good knowing you are helping your organization\, and purchasing products that help save the environment.
URL:https://goodneighborsgroup.org/event/tru-earth-celebrate-autumn/
END:VEVENT
BEGIN:VEVENT
DTSTART;TZID=UTC:20230921T140000
DTEND;TZID=UTC:20230921T150000
DTSTAMP:20260424T011211
CREATED:20230829T013717Z
LAST-MODIFIED:20230829T013717Z
UID:7324-1695304800-1695308400@goodneighborsgroup.org
SUMMARY:Landowner Workshop: Protecting Your Land from Invasive Plants
DESCRIPTION:Invasive plants are a huge problem for landowners. Scenic Rivers Land Trust can help!\nAttend this FREE online workshop to learn about:\n– the threat that invasive plant species pose to the long-term health of your land;\n– how to identify the most common problem species in our area; and\n– how to remove them — and tips to keep them under control (they’re tenacious!).\nJoin us online for the first in a series of landowner workshops intended to help you steward your land.\n\nThis is an online event so you need to register here
URL:https://goodneighborsgroup.org/event/landowner-workshop-protecting-your-land-from-invasive-plants/
CATEGORIES:Green Activities
END:VEVENT
BEGIN:VEVENT
DTSTART;TZID=UTC:20230921T080000
DTEND;TZID=UTC:20230930T170000
DTSTAMP:20260424T011211
CREATED:20230922T004104Z
LAST-MODIFIED:20230922T004226Z
UID:7383-1695283200-1696093200@goodneighborsgroup.org
SUMMARY:BloomBox Fundraiser
DESCRIPTION:Just in time for Fall decorating\, throughout September\, 15% of your orders to BloomBox will support Good Neighbors Group! Just use the code GNG15 at checkout at https://getblooming.com/. BloomBox ships from local growers to your door.
URL:https://goodneighborsgroup.org/event/bloombox-fundraiser/
END:VEVENT
BEGIN:VEVENT
DTSTART;TZID=UTC:20230908T080000
DTEND;TZID=UTC:20230908T140000
DTSTAMP:20260424T011211
CREATED:20230110T230258Z
LAST-MODIFIED:20230803T163702Z
UID:6062-1694160000-1694181600@goodneighborsgroup.org
SUMMARY:Blood Drive
DESCRIPTION:Good Neighbors Group is helping AAMC Blood Donation Center to organize a blood drive at Severna Park Village (near Garry’s Grill). Thank you to all who have helped AAMC and our community by donating blood  during this wildly unwild time.  AAMC has an ongoing need for blood donations\, as blood lasts only 42 days. \nFriday\, September 8\, 2023 \nTo signup\, click/tap the link. \nhttps://www.signupgenius.com/go/20f084caba92ea5fb6-good10#/
URL:https://goodneighborsgroup.org/event/blood-drive-7/
CATEGORIES:Blood Drive
ATTACH;FMTTYPE=image/jpeg:https://goodneighborsgroup.org/wp-content/uploads/2021/12/BLOOD_DRIVE.jpg
END:VEVENT
BEGIN:VEVENT
DTSTART;TZID=UTC:20230820T090000
DTEND;TZID=UTC:20230831T170000
DTSTAMP:20260424T011211
CREATED:20230821T004601Z
LAST-MODIFIED:20230823T190600Z
UID:7274-1692522000-1693501200@goodneighborsgroup.org
SUMMARY:A Pilates Place - Collection
DESCRIPTION:A Pilates Place are collecting hygiene items and used backpacks through August 31st from 9:00 am to 5:00 pm. Collections will be available for drop-off here: \nA Pilates Place\n 1321 General’s Highway\, Suite #103\nCrownsville.
URL:https://goodneighborsgroup.org/event/active-pilates-collection/
CATEGORIES:Community Event
ATTACH;FMTTYPE=image/jpeg:https://goodneighborsgroup.org/wp-content/uploads/2023/08/Collections.jpeg
END:VEVENT
BEGIN:VEVENT
DTSTART;TZID=UTC:20230820T080000
DTEND;TZID=UTC:20230831T190000
DTSTAMP:20260424T011211
CREATED:20230821T004120Z
LAST-MODIFIED:20230823T190737Z
UID:7270-1692518400-1693508400@goodneighborsgroup.org
SUMMARY:One. Collection
DESCRIPTION:One. are collecting hygiene items and used backpacks through August 31st from 8:00 am to 7:00 pm.  Collections will be available for drop-off here: \nOne.\nOne Physical Therapy\n914 Bay Ridge Road\, Suite 212\nAnnapolis.
URL:https://goodneighborsgroup.org/event/one-collection/
CATEGORIES:Community Event
ATTACH;FMTTYPE=image/jpeg:https://goodneighborsgroup.org/wp-content/uploads/2023/08/Collections.jpeg
END:VEVENT
BEGIN:VEVENT
DTSTART;TZID=UTC:20230810T090000
DTEND;TZID=UTC:20230823T130000
DTSTAMP:20260424T011211
CREATED:20230811T001830Z
LAST-MODIFIED:20230811T001830Z
UID:7260-1691658000-1692795600@goodneighborsgroup.org
SUMMARY:MDRRC Back to School Drive
DESCRIPTION:Support and Donate back to school supplies. Purchases can be made from our Amazon wish list or any store. Drop off at 77 West St\, Suite 110\, Annapolis\, MD every Wednesday from 9am to 1pm.
URL:https://goodneighborsgroup.org/event/mdrrc-back-to-school-drive/
CATEGORIES:Community Event
ATTACH;FMTTYPE=image/jpeg:https://goodneighborsgroup.org/wp-content/uploads/2023/08/IMG_8334.jpg
END:VEVENT
BEGIN:VEVENT
DTSTART;TZID=UTC:20230803T100000
DTEND;TZID=UTC:20230803T120000
DTSTAMP:20260424T011211
CREATED:20230801T194231Z
LAST-MODIFIED:20230801T194231Z
UID:7199-1691056800-1691064000@goodneighborsgroup.org
SUMMARY:Rogue Gardener Opportunity
DESCRIPTION:Come join the Rogue Gardeners as we support the Bayside Bloomers Garden Club at Our Shepherd Lutheran Church on Benfield Road. We will pull invasive periwinkle and English ivy in preparation for native plants and shrubs they will be planting this fall. Can you help?
URL:https://goodneighborsgroup.org/event/rogue-gardener-opportunity/
CATEGORIES:Volunteer Opportunity
ATTACH;FMTTYPE=image/jpeg:https://goodneighborsgroup.org/wp-content/uploads/2023/08/64c8331ae17f578dcf01b338.jpeg
END:VEVENT
BEGIN:VEVENT
DTSTART;TZID=UTC:20230624T100000
DTEND;TZID=UTC:20230624T130000
DTSTAMP:20260424T011211
CREATED:20230617T192050Z
LAST-MODIFIED:20230617T192050Z
UID:7042-1687600800-1687611600@goodneighborsgroup.org
SUMMARY:Bikes For The World
DESCRIPTION:Donate your old bikes to Pedal Pushers Bike Shop.  This year’s bike collection is in memory of Ann Jackson\, Jack Koczela and Larry Pratt. In 2005\, Ann Jackson partnered with Rod Reddish\, owner of Pedal Pushers\, to hold the first bike collection in Severna Park. \nLearn more
URL:https://goodneighborsgroup.org/event/bikes-for-the-world/
CATEGORIES:Volunteer Opportunity
END:VEVENT
BEGIN:VEVENT
DTSTART;TZID=UTC:20230624T093000
DTEND;TZID=UTC:20230624T113000
DTSTAMP:20260424T011211
CREATED:20230411T180101Z
LAST-MODIFIED:20230619T034714Z
UID:6870-1687599000-1687606200@goodneighborsgroup.org
SUMMARY:GNG - Litter Brigade Cleanup
DESCRIPTION:If you like the outdoors and enjoy working with others to clean up litter on our streets and roads in Severna Park\, MD join us on Saturdays 9:30-11:30 am for all or part of the time. We need you to help keep our community beautiful. We change our location weekly by focusing on another littered area. \nRemember that “litter begets more litter”. \nSign Up to Help
URL:https://goodneighborsgroup.org/event/gng-litter-brigade-cleanup-10/
CATEGORIES:GNG Sponsored Event
ATTACH;FMTTYPE=image/jpeg:https://goodneighborsgroup.org/wp-content/uploads/2023/04/the-cleanup-crew.jpeg
END:VEVENT
BEGIN:VEVENT
DTSTART;TZID=UTC:20230624T083000
DTEND;TZID=UTC:20230624T123000
DTSTAMP:20260424T011211
CREATED:20230617T192249Z
LAST-MODIFIED:20230617T192249Z
UID:7044-1687595400-1687609800@goodneighborsgroup.org
SUMMARY:The Bernie House
DESCRIPTION:A transition house for families surviving domestic abuse\, needs people to help move furniture and household items into one of their new homes in Annapolis to prepare it for a new family. \nName: Making a House a Home\nDate: June 24\, 2023\nTime: 8:30 AM to 12:30 PM \nCan you help?
URL:https://goodneighborsgroup.org/event/the-bernie-house/
CATEGORIES:Volunteer Opportunity
END:VEVENT
BEGIN:VEVENT
DTSTART;TZID=UTC:20230617T093000
DTEND;TZID=UTC:20230617T113000
DTSTAMP:20260424T011211
CREATED:20230411T180032Z
LAST-MODIFIED:20230619T034801Z
UID:6868-1686994200-1687001400@goodneighborsgroup.org
SUMMARY:GNG - Litter Brigade Cleanup
DESCRIPTION:If you like the outdoors and enjoy working with others to clean up litter on our streets and roads in Severna Park\, MD join us on Saturdays 9:30-11:30 am for all or part of the time. We need you to help keep our community beautiful. We change our location weekly by focusing on another littered area. \nRemember that “litter begets more litter”. \nSign Up to Help
URL:https://goodneighborsgroup.org/event/gng-litter-brigade-cleanup-9/
CATEGORIES:GNG Sponsored Event
ATTACH;FMTTYPE=image/jpeg:https://goodneighborsgroup.org/wp-content/uploads/2023/04/the-cleanup-crew.jpeg
END:VEVENT
BEGIN:VEVENT
DTSTART;TZID=UTC:20230610T093000
DTEND;TZID=UTC:20230610T113000
DTSTAMP:20260424T011211
CREATED:20230411T180006Z
LAST-MODIFIED:20230619T034847Z
UID:6866-1686389400-1686396600@goodneighborsgroup.org
SUMMARY:GNG - Litter Brigade Cleanup
DESCRIPTION:If you like the outdoors and enjoy working with others to clean up litter on our streets and roads in Severna Park\, MD join us on Saturdays 9:30-11:30 am for all or part of the time. We need you to help keep our community beautiful. We change our location weekly by focusing on another littered area. \nRemember that “litter begets more litter”. \nSign Up to Help
URL:https://goodneighborsgroup.org/event/gng-litter-brigade-cleanup-8/
CATEGORIES:GNG Sponsored Event
ATTACH;FMTTYPE=image/jpeg:https://goodneighborsgroup.org/wp-content/uploads/2023/04/the-cleanup-crew.jpeg
END:VEVENT
BEGIN:VEVENT
DTSTART;VALUE=DATE:20230606
DTEND;VALUE=DATE:20230608
DTSTAMP:20260424T011211
CREATED:20230221T192158Z
LAST-MODIFIED:20230411T174412Z
UID:6539-1686009600-1686182399@goodneighborsgroup.org
SUMMARY:WSA's 12th Annual Conference - Green Give 2023
DESCRIPTION:Get ready for the return of our in-person GreenGive kickoff party\, back for the first time since 2020 sent us virtual! \nEvent Details
URL:https://goodneighborsgroup.org/event/wsas-12th-annual-conference-spring-into-action/
CATEGORIES:Community Event
ATTACH;FMTTYPE=image/webp:https://goodneighborsgroup.org/wp-content/uploads/2023/02/greengive.webp
END:VEVENT
BEGIN:VEVENT
DTSTART;TZID=UTC:20230603T093000
DTEND;TZID=UTC:20230603T113000
DTSTAMP:20260424T011211
CREATED:20230411T175930Z
LAST-MODIFIED:20230411T175930Z
UID:6864-1685784600-1685791800@goodneighborsgroup.org
SUMMARY:GNG - Litter Brigade Cleanup
DESCRIPTION:Join GNG and the newly formed Anne Arundel County Litter Cleanup Brigade to spruce up Earleigh Heights Volunteer Fire Co. field (161 Ritchie Hwy).\nfor the Earth Day Festival! All ages welcome – kids must be\naccompanied by an adult. \nSign Up to Help
URL:https://goodneighborsgroup.org/event/gng-litter-brigade-cleanup-7/
CATEGORIES:GNG Sponsored Event
END:VEVENT
END:VCALENDAR