BEGIN:VCALENDAR
VERSION:2.0
PRODID:-//Good Neighbors Group - ECPv6.15.20//NONSGML v1.0//EN
CALSCALE:GREGORIAN
METHOD:PUBLISH
X-WR-CALNAME:Good Neighbors Group
X-ORIGINAL-URL:https://goodneighborsgroup.org
X-WR-CALDESC:Events for Good Neighbors Group
REFRESH-INTERVAL;VALUE=DURATION:PT1H
X-Robots-Tag:noindex
X-PUBLISHED-TTL:PT1H
BEGIN:VTIMEZONE
TZID:America/New_York
BEGIN:DAYLIGHT
TZOFFSETFROM:-0500
TZOFFSETTO:-0400
TZNAME:EDT
DTSTART:20240310T070000
END:DAYLIGHT
BEGIN:STANDARD
TZOFFSETFROM:-0400
TZOFFSETTO:-0500
TZNAME:EST
DTSTART:20241103T060000
END:STANDARD
BEGIN:DAYLIGHT
TZOFFSETFROM:-0500
TZOFFSETTO:-0400
TZNAME:EDT
DTSTART:20250309T070000
END:DAYLIGHT
BEGIN:STANDARD
TZOFFSETFROM:-0400
TZOFFSETTO:-0500
TZNAME:EST
DTSTART:20251102T060000
END:STANDARD
BEGIN:DAYLIGHT
TZOFFSETFROM:-0500
TZOFFSETTO:-0400
TZNAME:EDT
DTSTART:20260308T070000
END:DAYLIGHT
BEGIN:STANDARD
TZOFFSETFROM:-0400
TZOFFSETTO:-0500
TZNAME:EST
DTSTART:20261101T060000
END:STANDARD
END:VTIMEZONE
BEGIN:VTIMEZONE
TZID:UTC
BEGIN:STANDARD
TZOFFSETFROM:+0000
TZOFFSETTO:+0000
TZNAME:UTC
DTSTART:20240101T000000
END:STANDARD
END:VTIMEZONE
BEGIN:VEVENT
DTSTART;TZID=America/New_York:20251114T080000
DTEND;TZID=America/New_York:20251114T140000
DTSTAMP:20260423T174045
CREATED:20250918T214534Z
LAST-MODIFIED:20250918T214534Z
UID:10793-1763107200-1763128800@goodneighborsgroup.org
SUMMARY:November Blood Drive
DESCRIPTION:Good Neighbors Group is helping AAMC Blood Donation Center to organize a blood drive at Severna Park Village (near Garry’s Grill). Thank you to all who have helped AAMC and our community by donating blood  during this wildly unwild time.  AAMC has an ongoing need for blood donations\, as blood lasts only 42 days. \nFriday\, November 14\, 2025 \nTo signup\, click/tap the link. \nhttps://calendly.com/luminishealthdrives/sp-group-november?month=2025-11
URL:https://goodneighborsgroup.org/event/november-blood-drive/
CATEGORIES:Blood Drive
END:VEVENT
BEGIN:VEVENT
DTSTART;TZID=America/New_York:20251101T090000
DTEND;TZID=America/New_York:20251101T120000
DTSTAMP:20260423T174045
CREATED:20251010T222940Z
LAST-MODIFIED:20251010T222940Z
UID:10827-1761987600-1761998400@goodneighborsgroup.org
SUMMARY:Conservation Crew Planting Days and Path Mulching
DESCRIPTION:Saturday\, November 1 from 9:00 am to 12:00 pm \nPlease review the available slots here and click on the button to sign up. Thank you!
URL:https://goodneighborsgroup.org/event/conservation-crew-planting-days-and-path-mulching-3/
CATEGORIES:Volunteer Opportunity
ATTACH;FMTTYPE=image/jpeg:https://goodneighborsgroup.org/wp-content/uploads/2025/10/Earth_Day.jpg
END:VEVENT
BEGIN:VEVENT
DTSTART;VALUE=DATE:20251101
DTEND;VALUE=DATE:20251221
DTSTAMP:20260423T174045
CREATED:20251030T163144Z
LAST-MODIFIED:20251117T141148Z
UID:11121-1761955200-1766275199@goodneighborsgroup.org
SUMMARY:BloomBox-GNG Fundraiser - Extended
DESCRIPTION:⏱️ When: Nov 1-20 \nOrder wreaths\, greenery\, planters or anything you’d like from GetBlooming.com using the code GNG15 at checkout\, and we’ll receive 15% of the total. That’s a lot of green!
URL:https://goodneighborsgroup.org/event/bloombox-gng-fundraiser/
CATEGORIES:GNG Participating,GNG Sponsored Event
ATTACH;FMTTYPE=image/png:https://goodneighborsgroup.org/wp-content/uploads/2025/10/b4d2d719-ac79-6fc6-837e-f0f7a1ef845c.png
END:VEVENT
BEGIN:VEVENT
DTSTART;TZID=America/New_York:20251025T100000
DTEND;TZID=America/New_York:20251025T120000
DTSTAMP:20260423T174045
CREATED:20251023T151727Z
LAST-MODIFIED:20251023T151727Z
UID:10884-1761386400-1761393600@goodneighborsgroup.org
SUMMARY:Garden Opportunity Pluto’s Garden on the B&A Trail
DESCRIPTION:WHEN: Saturday\, October 25 (Make a Difference Day) 10am-12pm \nWHERE: Pluto’s Garden on the B&A Trail \n? Across from the Ranger Station \nW. Earleigh Heights Road\, Severna Park
URL:https://goodneighborsgroup.org/event/garden-opportunity-plutos-garden-on-the-ba-trail-2/
CATEGORIES:GNG Participating,GNG Sponsored Event
ATTACH;FMTTYPE=image/png:https://goodneighborsgroup.org/wp-content/uploads/2025/10/Screenshot-2025-10-23-111513.png
END:VEVENT
BEGIN:VEVENT
DTSTART;TZID=America/New_York:20251025T090000
DTEND;TZID=America/New_York:20251025T120000
DTSTAMP:20260423T174045
CREATED:20251010T222420Z
LAST-MODIFIED:20251010T222420Z
UID:10820-1761382800-1761393600@goodneighborsgroup.org
SUMMARY:Conservation Crew Planting Days and Path Mulching
DESCRIPTION:Saturday\, October 25 from 9:00 am to 12:00 pm \nPlease review the available slots here and click on the button to sign up. Thank you!
URL:https://goodneighborsgroup.org/event/conservation-crew-planting-days-and-path-mulching-2/
CATEGORIES:Volunteer Opportunity
ATTACH;FMTTYPE=image/jpeg:https://goodneighborsgroup.org/wp-content/uploads/2025/10/Earth_Day.jpg
END:VEVENT
BEGIN:VEVENT
DTSTART;TZID=America/New_York:20251025T080000
DTEND;TZID=America/New_York:20251025T170000
DTSTAMP:20260423T174045
CREATED:20250325T151325Z
LAST-MODIFIED:20250325T151325Z
UID:10370-1761379200-1761411600@goodneighborsgroup.org
SUMMARY:Household Hazardous Waste Drop Off
DESCRIPTION:The Bureau of Waste Management Services organizes several events throughout the year to drop-off hazardous chemicals that are not ordinarily accepted at the curb or at our recycling centers or landfill. \nClick/tap here for full details
URL:https://goodneighborsgroup.org/event/household-hazardous-waste-drop-off-6/
CATEGORIES:Community Event,Green Activities
ATTACH;FMTTYPE=image/jpeg:https://goodneighborsgroup.org/wp-content/uploads/2025/03/download.jpeg
END:VEVENT
BEGIN:VEVENT
DTSTART;TZID=America/New_York:20251019T120000
DTEND;TZID=America/New_York:20251019T140000
DTSTAMP:20260423T174045
CREATED:20251010T221908Z
LAST-MODIFIED:20251010T221908Z
UID:10814-1760875200-1760882400@goodneighborsgroup.org
SUMMARY:RePollinate Planting at Mayo Beach Park
DESCRIPTION:October 19th\, 2025 12-2pm @ 4150 Honeysuckle Drive Edgewater\, MD 21037 \nPlease review the available slots here (both slots are the same) and click on the button to sign up. If you’re a part of the Maryland Climate Corps – SYO\, this will count as 1 of your mandatory 3 peer-to-peer site visits. Please include your Host Organization name in the “Associated Organization Name” field. If you are an Anne Arundel Watershed Steward\, please write WSA in the “Associated Organization Name” field\, as this will count toward your volunteer hours. Thank you all!
URL:https://goodneighborsgroup.org/event/repollinate-planting-at-mayo-beach-park/
CATEGORIES:Volunteer Opportunity
ATTACH;FMTTYPE=image/png:https://goodneighborsgroup.org/wp-content/uploads/2025/10/FA435E9D445825DEFFC983278FE694BF_188990998.png
END:VEVENT
BEGIN:VEVENT
DTSTART;TZID=America/New_York:20251018T080000
DTEND;TZID=America/New_York:20251018T120000
DTSTAMP:20260423T174045
CREATED:20251010T221540Z
LAST-MODIFIED:20251010T221540Z
UID:10812-1760774400-1760788800@goodneighborsgroup.org
SUMMARY:Volunteer Planting: Mago Vista Community
DESCRIPTION:Volunteers needed for planting\nSaturday\, October 18\, 2025\, 8 am to 12 am. 804 Windsor Road in Arnold\, Maryland \nWe will be planting ~200 plants and can use some extra hands. Mostly 3 gallon shrubs and loads of gal/qts. \nBring shovels\, trowels\, gloves\, and kneeling pads (if you have them). \nClick/tap here to learn more or volunteer
URL:https://goodneighborsgroup.org/event/volunteer-planting-mago-vista-community/
CATEGORIES:Volunteer Opportunity
ATTACH;FMTTYPE=image/png:https://goodneighborsgroup.org/wp-content/uploads/2025/03/images.png
END:VEVENT
BEGIN:VEVENT
DTSTART;TZID=America/New_York:20251011T080000
DTEND;TZID=America/New_York:20251011T110000
DTSTAMP:20260423T174045
CREATED:20251010T222239Z
LAST-MODIFIED:20251010T222850Z
UID:10817-1760169600-1760180400@goodneighborsgroup.org
SUMMARY:Conservation Crew Planting Days and Path Mulching
DESCRIPTION:There are two events for this date: \nSaturday\, October 11 from 8:00 am to 11:00 am at Little Magothy Beach 1110 Little Magothy View \nSaturday\, October 11 from 1:00 pm to 3:00 am at Serene Ravine 1038 Lake Claire Dr \nPlease review the available slots here and click on the button to sign up. Thank you!
URL:https://goodneighborsgroup.org/event/conservation-crew-planting-days-and-path-mulching/
CATEGORIES:Volunteer Opportunity
ATTACH;FMTTYPE=image/jpeg:https://goodneighborsgroup.org/wp-content/uploads/2025/10/Earth_Day.jpg
END:VEVENT
BEGIN:VEVENT
DTSTART;TZID=America/New_York:20250925T100000
DTEND;TZID=America/New_York:20250925T120000
DTSTAMP:20260423T174045
CREATED:20250918T213707Z
LAST-MODIFIED:20250918T213805Z
UID:10790-1758794400-1758801600@goodneighborsgroup.org
SUMMARY:Garden Opportunity Pluto’s Garden on the B&A Trail
DESCRIPTION:WHEN: Saturday\, October 25 (Make a Difference Day) 10am-12pm \nWHERE: Pluto’s Garden on the B&A Trail \nAcross from the Ranger Station \nW. Earleigh Heights Road\, Severna Park \nBring gloves\, shears\, loppers and shovels to spruce up GNG’s Pluto’s Garden on the B&A Trail. \nGarden on 10/25
URL:https://goodneighborsgroup.org/event/garden-opportunity-plutos-garden-on-the-ba-trail/
CATEGORIES:GNG Sponsored Event
ATTACH;FMTTYPE=image/png:https://goodneighborsgroup.org/wp-content/uploads/2025/09/e31c883d-8042-b606-2c7b-01af80ec9092.png
END:VEVENT
BEGIN:VEVENT
DTSTART;TZID=America/New_York:20250919T100000
DTEND;TZID=America/New_York:20250919T120000
DTSTAMP:20260423T174045
CREATED:20250918T213319Z
LAST-MODIFIED:20250918T213823Z
UID:10785-1758276000-1758283200@goodneighborsgroup.org
SUMMARY:Garden Opportunity
DESCRIPTION:WHEN: THIS FRIDAY\, September 19\, 10am-12pm \nWHERE: Cafe Mezzanotte\, 760 Ritchie Hwy\, Severna Park \nJoin us tomorrow morning to spruce up the GNG gardens in front of Cafe Mezzanotte and at the Pond at Mezz. \nBring gloves and your favorite digging tools. Stay for all or part. Many hands make light work. \nI can garden
URL:https://goodneighborsgroup.org/event/garden-opportunity/
CATEGORIES:GNG Sponsored Event
ATTACH;FMTTYPE=image/png:https://goodneighborsgroup.org/wp-content/uploads/2025/09/61d328ce-9748-e203-2418-af76524e790a.png
END:VEVENT
BEGIN:VEVENT
DTSTART;TZID=America/New_York:20250913T080000
DTEND;TZID=America/New_York:20250913T140000
DTSTAMP:20260423T174045
CREATED:20250325T151239Z
LAST-MODIFIED:20250325T151239Z
UID:10368-1757750400-1757772000@goodneighborsgroup.org
SUMMARY:Household Hazardous Waste Drop Off
DESCRIPTION:The Bureau of Waste Management Services organizes several events throughout the year to drop-off hazardous chemicals that are not ordinarily accepted at the curb or at our recycling centers or landfill. \nClick/tap here for full details
URL:https://goodneighborsgroup.org/event/household-hazardous-waste-drop-off-5/
CATEGORIES:Community Event,Green Activities
ATTACH;FMTTYPE=image/jpeg:https://goodneighborsgroup.org/wp-content/uploads/2025/03/download.jpeg
END:VEVENT
BEGIN:VEVENT
DTSTART;TZID=America/New_York:20250821T080000
DTEND;TZID=America/New_York:20250923T170000
DTSTAMP:20260423T174045
CREATED:20250821T200443Z
LAST-MODIFIED:20250918T213014Z
UID:10771-1755763200-1758646800@goodneighborsgroup.org
SUMMARY:School Supply Drive for Charting Careers Scholars
DESCRIPTION:WHAT: Schools supplies for Annapolis students \nWHEN: Today through September 23 \nWHERE: Park Books\, 555 B&A Blvd\, Severna Park
URL:https://goodneighborsgroup.org/event/school-supply-drive-for-charting-careers-scholars/
CATEGORIES:GNG Partner Event
ATTACH;FMTTYPE=image/jpeg:https://goodneighborsgroup.org/wp-content/uploads/2025/08/54bc50d0-dd8d-d7b3-40eb-afea6957b47d.jpg
END:VEVENT
BEGIN:VEVENT
DTSTART;TZID=UTC:20250718T080000
DTEND;TZID=UTC:20250718T134000
DTSTAMP:20260423T174045
CREATED:20250522T141405Z
LAST-MODIFIED:20250609T165005Z
UID:10551-1752825600-1752846000@goodneighborsgroup.org
SUMMARY:Blood Drive
DESCRIPTION:Good Neighbors Group is helping AAMC Blood Donation Center to organize a blood drive at Severna Park Village (near Garry’s Grill). Thank you to all who have helped AAMC and our community by donating blood  during this wildly unwild time.  AAMC has an ongoing need for blood donations\, as blood lasts only 42 days. \nFriday\, July 18\, 2025 \nTo signup\, click/tap the link. \nhttps://calendly.com/luminishealthdrives/severna-park-group?month=2025-07
URL:https://goodneighborsgroup.org/event/blood-drive-17/
CATEGORIES:Blood Drive
END:VEVENT
BEGIN:VEVENT
DTSTART;TZID=America/New_York:20250621T080000
DTEND;TZID=America/New_York:20250621T140000
DTSTAMP:20260423T174045
CREATED:20250325T151151Z
LAST-MODIFIED:20250325T151151Z
UID:10366-1750492800-1750514400@goodneighborsgroup.org
SUMMARY:Household Hazardous Waste Drop Off
DESCRIPTION:The Bureau of Waste Management Services organizes several events throughout the year to drop-off hazardous chemicals that are not ordinarily accepted at the curb or at our recycling centers or landfill. \nClick/tap here for full details
URL:https://goodneighborsgroup.org/event/household-hazardous-waste-drop-off-4/
CATEGORIES:Community Event,Green Activities
ATTACH;FMTTYPE=image/jpeg:https://goodneighborsgroup.org/wp-content/uploads/2025/03/download.jpeg
END:VEVENT
BEGIN:VEVENT
DTSTART;TZID=America/New_York:20250617T100000
DTEND;TZID=America/New_York:20250617T120000
DTSTAMP:20260423T174045
CREATED:20250603T190231Z
LAST-MODIFIED:20250611T183734Z
UID:10572-1750154400-1750161600@goodneighborsgroup.org
SUMMARY:Community Gardening
DESCRIPTION:The next community gardening event is maintenance of the gardens at the Railroad Station propery – 3 Riggs Avenue. We will be doing weeding\, mulching and bush trimming.  This event is jointly sponsored by Olde Severna Park and the Good Neighbors Group. \nWHEN: Tuesday\, June 17th – 10:00 am to 12:00 pm \nFull details available here
URL:https://goodneighborsgroup.org/event/community-gardening/
CATEGORIES:GNG Participating,GNG Partner Event
ATTACH;FMTTYPE=image/jpeg:https://goodneighborsgroup.org/wp-content/uploads/2023/10/IMG_0674.jpg
END:VEVENT
BEGIN:VEVENT
DTSTART;TZID=America/New_York:20250531T080000
DTEND;TZID=America/New_York:20250531T140000
DTSTAMP:20260423T174045
CREATED:20250325T151052Z
LAST-MODIFIED:20250325T151052Z
UID:10364-1748678400-1748700000@goodneighborsgroup.org
SUMMARY:Household Hazardous Waste Drop Off
DESCRIPTION:The Bureau of Waste Management Services organizes several events throughout the year to drop-off hazardous chemicals that are not ordinarily accepted at the curb or at our recycling centers or landfill. \nClick/tap here for full details
URL:https://goodneighborsgroup.org/event/household-hazardous-waste-drop-off-3/
CATEGORIES:Community Event,Green Activities
ATTACH;FMTTYPE=image/jpeg:https://goodneighborsgroup.org/wp-content/uploads/2025/03/download.jpeg
END:VEVENT
BEGIN:VEVENT
DTSTART;TZID=America/New_York:20250518T100000
DTEND;TZID=America/New_York:20250518T130000
DTSTAMP:20260423T174045
CREATED:20250501T125331Z
LAST-MODIFIED:20250501T125331Z
UID:10516-1747562400-1747573200@goodneighborsgroup.org
SUMMARY:Pull Up a Seat and Let’s Stitch Something Beautiful  …Again!
DESCRIPTION:We’ll be sewing reusable pads that are included in menstrual kits sent to girls in South Sudan and Liberia in partnership with Orphan Grain Train. \nBring your machine or serger\, and we will provide the rest! Help us zoom through the simple patterns that will make a big impact for girls\, because no girl should miss out on life just because she has her period. \nMay 18 from 10:00 am to 1:00 pm \nFull details here
URL:https://goodneighborsgroup.org/event/pull-up-a-seat-and-lets-stitch-something-beautiful-again/
ATTACH;FMTTYPE=image/jpeg:https://goodneighborsgroup.org/wp-content/uploads/2025/05/738628d9-2ceb-6b1f-5cf9-9b06a60af13a.jpg
END:VEVENT
BEGIN:VEVENT
DTSTART;VALUE=DATE:20250513
DTEND;VALUE=DATE:20250514
DTSTAMP:20260423T174045
CREATED:20250501T123052Z
LAST-MODIFIED:20250501T123133Z
UID:10510-1747094400-1747180799@goodneighborsgroup.org
SUMMARY:All Day Dining\, Do Good
DESCRIPTION:Join us on May 13th at Pitaya Mexican Restaurant in Severna Park for an all-day fundraiser benefiting Good Neighbors Group! Whether you’re stopping by for breakfast\, lunch\, or dinner\, dine in or take out\, your meal helps support local programs that connect people and strengthen our community. \n?️ May 13\, 2025\n? Pitaya Mexican Restaurant – 497 Ritchie Hwy #2D\, Severna Park\n? All day long! \n✅ Be sure to mention “Good Neighbors Group” at checkout to make it count!
URL:https://goodneighborsgroup.org/event/all-day-dining-do-good/
CATEGORIES:Community Event,GNG Partner Event
END:VEVENT
BEGIN:VEVENT
DTSTART;TZID=America/New_York:20250504T130000
DTEND;TZID=America/New_York:20250504T150000
DTSTAMP:20260423T174045
CREATED:20250404T215458Z
LAST-MODIFIED:20250404T215458Z
UID:10444-1746363600-1746370800@goodneighborsgroup.org
SUMMARY:Your Local Forest Needs You
DESCRIPTION:Good Neighbors Group—Protect the Health of YOUR Local Forest: Join us at Bacon Ridge Natural Area in Crownsville to spend an afternoon removing invasive vines\, shrubs\, and grasses from along the trails! \nClick/tap here for full details and registration
URL:https://goodneighborsgroup.org/event/your-local-forest-needs-you/
CATEGORIES:GNG Sponsored Event
ATTACH;FMTTYPE=image/jpeg:https://goodneighborsgroup.org/wp-content/uploads/2025/04/servlet.jpeg
END:VEVENT
BEGIN:VEVENT
DTSTART;TZID=UTC:20250502T080000
DTEND;TZID=UTC:20250502T140000
DTSTAMP:20260423T174045
CREATED:20250325T131919Z
LAST-MODIFIED:20250325T131919Z
UID:10354-1746172800-1746194400@goodneighborsgroup.org
SUMMARY:Blood Drive
DESCRIPTION:Good Neighbors Group is helping AAMC Blood Donation Center to organize a blood drive at Severna Park Village (near Garry’s Grill). Thank you to all who have helped AAMC and our community by donating blood  during this wildly unwild time.  AAMC has an ongoing need for blood donations\, as blood lasts only 42 days. \nFriday\, May 2\, 2025 \nTo signup\, click/tap the link. \nhttps://calendly.com/luminishealthdrives/severna-park-group?month=2025-05
URL:https://goodneighborsgroup.org/event/blood-drive-16/
CATEGORIES:Blood Drive
END:VEVENT
BEGIN:VEVENT
DTSTART;TZID=America/New_York:20250427T110000
DTEND;TZID=America/New_York:20250427T150000
DTSTAMP:20260423T174045
CREATED:20250212T142658Z
LAST-MODIFIED:20250212T142658Z
UID:10071-1745751600-1745766000@goodneighborsgroup.org
SUMMARY:Earth Day Festival
DESCRIPTION:For over 20 years we’ve been bringing together dozens of organizations\, vendors and school groups to create this fun\, meaningful event that engages people and challenges them to learn something new about the world we live in and care of the community and ourselves. \nFull details available here
URL:https://goodneighborsgroup.org/event/earth-day-festival/
END:VEVENT
BEGIN:VEVENT
DTSTART;TZID=America/New_York:20250426T080000
DTEND;TZID=America/New_York:20250426T140000
DTSTAMP:20260423T174045
CREATED:20250325T150923Z
LAST-MODIFIED:20250325T150923Z
UID:10360-1745654400-1745676000@goodneighborsgroup.org
SUMMARY:Household Hazardous Waste Drop Off
DESCRIPTION:The Bureau of Waste Management Services organizes several events throughout the year to drop-off hazardous chemicals that are not ordinarily accepted at the curb or at our recycling centers or landfill. \nClick/tap here for full details
URL:https://goodneighborsgroup.org/event/household-hazardous-waste-drop-off-2/
CATEGORIES:Community Event,Green Activities
ATTACH;FMTTYPE=image/jpeg:https://goodneighborsgroup.org/wp-content/uploads/2025/03/download.jpeg
END:VEVENT
BEGIN:VEVENT
DTSTART;TZID=America/New_York:20250415T100000
DTEND;TZID=America/New_York:20250415T190000
DTSTAMP:20260423T174045
CREATED:20250403T145227Z
LAST-MODIFIED:20250403T145227Z
UID:10441-1744711200-1744743600@goodneighborsgroup.org
SUMMARY:Celebrate Homestead Garden’s 15 Years in Severna Park
DESCRIPTION:Join us for a full day of celebration & support GNG: \n✨ 15% off storewide & One-day deals\n? Double Myrtle Money\n? Spin the Wheel for prizes or charity\n? Sample tasty treats\n? Special Guests:\n– Espoma Rep Mike Huber (free samples & tips)\n– Designer Kim Hovell (4–6 PM appearance) \n? Tuesday\, April 15\, 2025\n? 10:00 AM – 7:00 PM
URL:https://goodneighborsgroup.org/event/celebrate-homestead-gardens-15-years-in-severna-park/
CATEGORIES:Community Event,GNG Partner Event
ATTACH;FMTTYPE=image/png:https://goodneighborsgroup.org/wp-content/uploads/2025/04/HG_StoreFronts_1200x7502-1.png
END:VEVENT
BEGIN:VEVENT
DTSTART;TZID=America/New_York:20250413T090000
DTEND;TZID=America/New_York:20250413T130000
DTSTAMP:20260423T174045
CREATED:20250315T171354Z
LAST-MODIFIED:20250410T171750Z
UID:10225-1744534800-1744549200@goodneighborsgroup.org
SUMMARY:ANN-ual Day of Maintenance
DESCRIPTION:Join us as we honor Ann Jackson’s legacy by working on a project at a school in Annapolis\, MD. \nThe Chesapeake Ecology Center Native Plant Demonstration Gardens & Groves project started in 2003. It was designed and implemented under the leadership of Zora Lathan\, founder of the Chesapeake Ecology Center (CEC). The project was installed with significant involvement from students\, local environmental organizations including WSA\, and community members. Ann loved maintenance and children\, making this project an especially meaningful choice. \nClick/tap here for more details and to sign-up.
URL:https://goodneighborsgroup.org/event/ann-ual-day-of-maintenance/
CATEGORIES:GNG Participating,Green Activities
ATTACH;FMTTYPE=image/png:https://goodneighborsgroup.org/wp-content/uploads/2025/03/images.png
END:VEVENT
BEGIN:VEVENT
DTSTART;TZID=America/New_York:20250405T080000
DTEND;TZID=America/New_York:20250405T120000
DTSTAMP:20260423T174045
CREATED:20250325T151647Z
LAST-MODIFIED:20250325T151720Z
UID:10372-1743840000-1743854400@goodneighborsgroup.org
SUMMARY:Spring Paper Shredding Event
DESCRIPTION:Drop off your personal documents to be safely shredded on site by a secure shredding service.  No need to pre-shred your paper.
URL:https://goodneighborsgroup.org/event/spring-paper-shredding-event/
CATEGORIES:Community Event
END:VEVENT
BEGIN:VEVENT
DTSTART;TZID=America/New_York:20250329T080000
DTEND;TZID=America/New_York:20250329T140000
DTSTAMP:20260423T174045
CREATED:20250325T150752Z
LAST-MODIFIED:20250325T150952Z
UID:10357-1743235200-1743256800@goodneighborsgroup.org
SUMMARY:Household Hazardous Waste Drop Off
DESCRIPTION:The Bureau of Waste Management Services organizes several events throughout the year to drop-off hazardous chemicals that are not ordinarily accepted at the curb or at our recycling centers or landfill. \nClick/tap here for full details
URL:https://goodneighborsgroup.org/event/household-hazardous-waste-drop-off/
CATEGORIES:Community Event,Green Activities
ATTACH;FMTTYPE=image/jpeg:https://goodneighborsgroup.org/wp-content/uploads/2025/03/download.jpeg
END:VEVENT
BEGIN:VEVENT
DTSTART;TZID=UTC:20250228T080000
DTEND;TZID=UTC:20250228T140000
DTSTAMP:20260423T174045
CREATED:20241218T220458Z
LAST-MODIFIED:20250130T181529Z
UID:9821-1740729600-1740751200@goodneighborsgroup.org
SUMMARY:Blood Drive
DESCRIPTION:Good Neighbors Group is helping AAMC Blood Donation Center to organize a blood drive at Severna Park Village (near Garry’s Grill). Thank you to all who have helped AAMC and our community by donating blood  during this wildly unwild time.  AAMC has an ongoing need for blood donations\, as blood lasts only 42 days. \nFriday\, February 28\, 2025 \nTo signup\, click/tap the link. \nhttps://calendly.com/luminishealthdrives/severna-park-group-blood-drive-feb?month=2025-02
URL:https://goodneighborsgroup.org/event/blood-drive-15/
CATEGORIES:Blood Drive
END:VEVENT
BEGIN:VEVENT
DTSTART;TZID=America/New_York:20250226T180000
DTEND;TZID=America/New_York:20250226T200000
DTSTAMP:20260423T174045
CREATED:20250213T143841Z
LAST-MODIFIED:20250221T135927Z
UID:10074-1740592800-1740600000@goodneighborsgroup.org
SUMMARY:S(o)uper Bowl Celebration & Fundraiser
DESCRIPTION:Join us to celebrate the shared S(o)uper Bowl experience and the difference you helped make for our Neighbors! \n? And here’s the real MVP move… Whether you’re part of the food drive or not\, enjoy dinner at Cafe Mezzanotte and you’ll be supporting GNG. \nWednesday\, February 19 from 6-8pm\nWinners announced at 7pm\nCafe Mezzanotte\n760 Ritchie Hwy\, Severna Park
URL:https://goodneighborsgroup.org/event/souper-bowl-celebration-fundraiser/
END:VEVENT
BEGIN:VEVENT
DTSTART;TZID=America/New_York:20250202T110000
DTEND;TZID=America/New_York:20250202T140000
DTSTAMP:20260423T174045
CREATED:20241206T175128Z
LAST-MODIFIED:20241206T175230Z
UID:9763-1738494000-1738504800@goodneighborsgroup.org
SUMMARY:Cottonwood in the Park
DESCRIPTION:Cottonwood is very excited to be partnering with two local non profits (Good Neighbor Group and Stitches of Kindness) to start our journey toward making some much-needed items for people in our local and global communities who are in need. \nCheck out all the details and sign up for a class
URL:https://goodneighborsgroup.org/event/cottonwood-in-the-park/
CATEGORIES:GNG Partner Event
ATTACH;FMTTYPE=image/jpeg:https://goodneighborsgroup.org/wp-content/uploads/2024/11/PNG-image.jpg
END:VEVENT
END:VCALENDAR