BEGIN:VCALENDAR
VERSION:2.0
PRODID:-//Good Neighbors Group - ECPv6.15.20//NONSGML v1.0//EN
CALSCALE:GREGORIAN
METHOD:PUBLISH
X-WR-CALNAME:Good Neighbors Group
X-ORIGINAL-URL:https://goodneighborsgroup.org
X-WR-CALDESC:Events for Good Neighbors Group
REFRESH-INTERVAL;VALUE=DURATION:PT1H
X-Robots-Tag:noindex
X-PUBLISHED-TTL:PT1H
BEGIN:VTIMEZONE
TZID:UTC
BEGIN:STANDARD
TZOFFSETFROM:+0000
TZOFFSETTO:+0000
TZNAME:UTC
DTSTART:20200101T000000
END:STANDARD
END:VTIMEZONE
BEGIN:VEVENT
DTSTART;TZID=UTC:20230527T093000
DTEND;TZID=UTC:20230527T113000
DTSTAMP:20260423T204911
CREATED:20230411T175856Z
LAST-MODIFIED:20230411T175856Z
UID:6862-1685179800-1685187000@goodneighborsgroup.org
SUMMARY:GNG - Litter Brigade Cleanup
DESCRIPTION:Join GNG and the newly formed Anne Arundel County Litter Cleanup Brigade to spruce up Earleigh Heights Volunteer Fire Co. field (161 Ritchie Hwy).\nfor the Earth Day Festival! All ages welcome – kids must be\naccompanied by an adult. \nSign Up to Help
URL:https://goodneighborsgroup.org/event/gng-litter-brigade-cleanup-6/
CATEGORIES:GNG Sponsored Event
ATTACH;FMTTYPE=image/jpeg:https://goodneighborsgroup.org/wp-content/uploads/2023/04/litter-brigade.jpg
END:VEVENT
BEGIN:VEVENT
DTSTART;TZID=UTC:20230520T093000
DTEND;TZID=UTC:20230520T113000
DTSTAMP:20260423T204911
CREATED:20230411T175827Z
LAST-MODIFIED:20230411T175827Z
UID:6860-1684575000-1684582200@goodneighborsgroup.org
SUMMARY:GNG - Litter Brigade Cleanup
DESCRIPTION:Join GNG and the newly formed Anne Arundel County Litter Cleanup Brigade to spruce up Earleigh Heights Volunteer Fire Co. field (161 Ritchie Hwy).\nfor the Earth Day Festival! All ages welcome – kids must be\naccompanied by an adult. \nSign Up to Help
URL:https://goodneighborsgroup.org/event/gng-litter-brigade-cleanup-5/
CATEGORIES:GNG Sponsored Event
END:VEVENT
BEGIN:VEVENT
DTSTART;TZID=UTC:20230513T093000
DTEND;TZID=UTC:20230513T113000
DTSTAMP:20260423T204911
CREATED:20230411T175258Z
LAST-MODIFIED:20230411T175753Z
UID:6857-1683970200-1683977400@goodneighborsgroup.org
SUMMARY:GNG - Litter Brigade Cleanup
DESCRIPTION:Join GNG and the newly formed Anne Arundel County Litter Cleanup Brigade to spruce up Earleigh Heights Volunteer Fire Co. field (161 Ritchie Hwy).\nfor the Earth Day Festival! All ages welcome – kids must be\naccompanied by an adult. \nSign Up to Help
URL:https://goodneighborsgroup.org/event/gng-litter-brigade-cleanup-4/
CATEGORIES:GNG Sponsored Event
ATTACH;FMTTYPE=image/jpeg:https://goodneighborsgroup.org/wp-content/uploads/2023/04/litter-brigade.jpg
END:VEVENT
BEGIN:VEVENT
DTSTART;TZID=UTC:20230506T093000
DTEND;TZID=UTC:20230506T113000
DTSTAMP:20260423T204911
CREATED:20230411T175233Z
LAST-MODIFIED:20230411T175233Z
UID:6855-1683365400-1683372600@goodneighborsgroup.org
SUMMARY:GNG - Litter Brigade Cleanup
DESCRIPTION:Join GNG and the newly formed Anne Arundel County Litter Cleanup Brigade to spruce up Earleigh Heights Volunteer Fire Co. field (161 Ritchie Hwy).\nfor the Earth Day Festival! All ages welcome – kids must be\naccompanied by an adult. \nSign Up to Help
URL:https://goodneighborsgroup.org/event/gng-litter-brigade-cleanup-3/
CATEGORIES:GNG Sponsored Event
END:VEVENT
BEGIN:VEVENT
DTSTART;TZID=UTC:20230505T080000
DTEND;TZID=UTC:20230505T140000
DTSTAMP:20260423T204911
CREATED:20230110T230219Z
LAST-MODIFIED:20230803T163310Z
UID:6060-1683273600-1683295200@goodneighborsgroup.org
SUMMARY:Blood Drive
DESCRIPTION:Good Neighbors Group is helping AAMC Blood Donation Center to organize a blood drive at Severna Park Village (near Garry’s Grill). Thank you to all who have helped AAMC and our community by donating blood  during this wildly unwild time.  AAMC has an ongoing need for blood donations\, as blood lasts only 42 days. \n 
URL:https://goodneighborsgroup.org/event/blood-drive-6/
CATEGORIES:Blood Drive,GNG Sponsored Event
ATTACH;FMTTYPE=image/jpeg:https://goodneighborsgroup.org/wp-content/uploads/2021/12/BLOOD_DRIVE.jpg
END:VEVENT
BEGIN:VEVENT
DTSTART;TZID=UTC:20230429T093000
DTEND;TZID=UTC:20230429T113000
DTSTAMP:20260423T204911
CREATED:20230411T175132Z
LAST-MODIFIED:20230411T175528Z
UID:6853-1682760600-1682767800@goodneighborsgroup.org
SUMMARY:GNG - Litter Brigade Cleanup
DESCRIPTION:Join GNG and the newly formed Anne Arundel County Litter Cleanup Brigade to spruce up Earleigh Heights Volunteer Fire Co. field (161 Ritchie Hwy).\nfor the Earth Day Festival! All ages welcome – kids must be\naccompanied by an adult. \nSign Up to Help
URL:https://goodneighborsgroup.org/event/gng-litter-brigade-cleanup-2/
CATEGORIES:GNG Sponsored Event
ATTACH;FMTTYPE=image/jpeg:https://goodneighborsgroup.org/wp-content/uploads/2023/04/litter-brigade.jpg
END:VEVENT
BEGIN:VEVENT
DTSTART;TZID=UTC:20230429T090000
DTEND;TZID=UTC:20230429T120000
DTSTAMP:20260423T204911
CREATED:20230405T005932Z
LAST-MODIFIED:20230411T174642Z
UID:6796-1682758800-1682769600@goodneighborsgroup.org
SUMMARY:The 21st Annual Earth Day Festival!
DESCRIPTION:We are so excited to be holding this year’s Earth Day Festival at the Earleigh Heights Volunteer Fire Company! This location which sees 50-60\,000 cars pass per day will help us draw even more attention to important issues around the well-being of people and the planet. \nLearn more
URL:https://goodneighborsgroup.org/event/the-21st-annual-earth-day-festival/
CATEGORIES:GNG Sponsored Event
ATTACH;FMTTYPE=image/png:https://goodneighborsgroup.org/wp-content/uploads/2022/03/ed-hands-2022-small2.png
END:VEVENT
BEGIN:VEVENT
DTSTART;TZID=UTC:20230422T093000
DTEND;TZID=UTC:20230422T113000
DTSTAMP:20260423T204911
CREATED:20230405T182838Z
LAST-MODIFIED:20230405T182932Z
UID:6813-1682155800-1682163000@goodneighborsgroup.org
SUMMARY:GNG - Litter Brigade Cleanup
DESCRIPTION:Join GNG and the newly formed Anne Arundel County Litter Cleanup Brigade to spruce up Earleigh Heights Volunteer Fire Co. field (161 Ritchie Hwy).\nfor the Earth Day Festival! All ages welcome – kids must be\naccompanied by an adult. \nSign Up to Help
URL:https://goodneighborsgroup.org/event/gng-litter-brigade-cleanup/
CATEGORIES:GNG Sponsored Event
END:VEVENT
BEGIN:VEVENT
DTSTART;TZID=UTC:20230421T150000
DTEND;TZID=UTC:20230421T170000
DTSTAMP:20260423T204911
CREATED:20230405T181350Z
LAST-MODIFIED:20230411T172222Z
UID:6810-1682089200-1682096400@goodneighborsgroup.org
SUMMARY:Park Home - Drop & Shop
DESCRIPTION:Bring a bag of 4-15 items from your closet.  Drop it off at your Drop & Shop Event. Then shop the Noonday Collection at a discount. \nUse this link for the Online Invitation
URL:https://goodneighborsgroup.org/event/park-home-drop-shop/
CATEGORIES:GNG Sponsored Event
END:VEVENT
BEGIN:VEVENT
DTSTART;TZID=UTC:20230303T080000
DTEND;TZID=UTC:20230303T140000
DTSTAMP:20260423T204911
CREATED:20230110T230042Z
LAST-MODIFIED:20230228T225743Z
UID:6058-1677830400-1677852000@goodneighborsgroup.org
SUMMARY:Blood Drive
DESCRIPTION:Good Neighbors Group is helping AAMC Blood Donation Center to organize a blood drive at Severna Park Village (near Garry’s Grill). Thank you to all who have helped AAMC and our community by donating blood  during this wildly unwild time.  AAMC has an ongoing need for blood donations\, as blood lasts only 42 days. \nTo signup\, click/tap the link below \nDonate
URL:https://goodneighborsgroup.org/event/blood-drive-5/
CATEGORIES:Blood Drive,GNG Sponsored Event
END:VEVENT
BEGIN:VEVENT
DTSTART;TZID=UTC:20230225T090000
DTEND;TZID=UTC:20230225T120000
DTSTAMP:20260423T204911
CREATED:20230220T205144Z
LAST-MODIFIED:20230220T224337Z
UID:6519-1677315600-1677326400@goodneighborsgroup.org
SUMMARY:Waterford Park Meeting
DESCRIPTION:Come celebrate S(o)uper Bowl\, hear about changes to this year’s Earth Day Festival\, get your recycling\, composting and donation questions answered\, and find your own way to be part of the Neighborhood! \nContact Us
URL:https://goodneighborsgroup.org/event/waterford-park-meeting/
CATEGORIES:GNG Sponsored Event
END:VEVENT
BEGIN:VEVENT
DTSTART;TZID=UTC:20230222T180000
DTEND;TZID=UTC:20230222T200000
DTSTAMP:20260423T204911
CREATED:20230220T203901Z
LAST-MODIFIED:20230220T224509Z
UID:6510-1677088800-1677096000@goodneighborsgroup.org
SUMMARY:Cafe Mezzanotte Meeting
DESCRIPTION:Come celebrate S(o)uper Bowl\, hear about changes to this year’s Earth Day Festival\, get your recycling\, composting and donation questions answered\, and find your own way to be part of the Neighborhood!  The meeting will be held in the Lounge at Mezzanotte. \nEvite
URL:https://goodneighborsgroup.org/event/cafe-mezzanotte-meeting/
CATEGORIES:GNG Sponsored Event
END:VEVENT
BEGIN:VEVENT
DTSTART;TZID=UTC:20221209T080000
DTEND;TZID=UTC:20221209T140000
DTSTAMP:20260423T204911
CREATED:20220721T162712Z
LAST-MODIFIED:20220721T162712Z
UID:5858-1670572800-1670594400@goodneighborsgroup.org
SUMMARY:Blood Drive
DESCRIPTION:Good Neighbors Group is helping AAMC Blood Donation Center to organize a blood drive at Severna Park Village (near Garry’s Grill). Thank you to all who have helped AAMC and our community by donating blood  during this wildly unwild time.  AAMC has an ongoing need for blood donations\, as blood lasts only 42 days.
URL:https://goodneighborsgroup.org/event/blood-drive-4/
CATEGORIES:GNG Sponsored Event
END:VEVENT
BEGIN:VEVENT
DTSTART;TZID=UTC:20221014T080000
DTEND;TZID=UTC:20221014T140000
DTSTAMP:20260423T204911
CREATED:20220721T162635Z
LAST-MODIFIED:20220721T162635Z
UID:5856-1665734400-1665756000@goodneighborsgroup.org
SUMMARY:Blood Drive
DESCRIPTION:Good Neighbors Group is helping AAMC Blood Donation Center to organize a blood drive at Severna Park Village (near Garry’s Grill). Thank you to all who have helped AAMC and our community by donating blood  during this wildly unwild time.  AAMC has an ongoing need for blood donations\, as blood lasts only 42 days.
URL:https://goodneighborsgroup.org/event/blood-drive-3/
CATEGORIES:GNG Sponsored Event
END:VEVENT
BEGIN:VEVENT
DTSTART;TZID=UTC:20220811T080000
DTEND;TZID=UTC:20220811T140000
DTSTAMP:20260423T204911
CREATED:20221202T130000Z
LAST-MODIFIED:20220721T162516Z
UID:5486-1660204800-1660226400@goodneighborsgroup.org
SUMMARY:Blood Drive
DESCRIPTION:Good Neighbors Group is helping AAMC Blood Donation Center to organize a blood drive at Severna Park Village (near Garry’s Grill). Thank you to all who have helped AAMC and our community by donating blood  during this wildly unwild time.  AAMC has an ongoing need for blood donations\, as blood lasts only 42 days.
URL:https://goodneighborsgroup.org/event/blood-drive-2/
CATEGORIES:GNG Sponsored Event
END:VEVENT
BEGIN:VEVENT
DTSTART;TZID=UTC:20220430T100000
DTEND;TZID=UTC:20220430T130000
DTSTAMP:20260423T204911
CREATED:20220430T140000Z
LAST-MODIFIED:20220415T025010Z
UID:5708-1651312800-1651323600@goodneighborsgroup.org
SUMMARY:Annual Earth Day Festival
DESCRIPTION:Put spring cleaning into real action with a mindset of sustainability and environmental awareness.  Take advantage of this one day event to dispose of your unwanted items while benefiting others and doing the least environmental harm\, and continue this mindset all year long. \nHere’s how to get involved
URL:https://goodneighborsgroup.org/event/annual-earth-day-festival/
CATEGORIES:GNG Sponsored Event
END:VEVENT
BEGIN:VEVENT
DTSTART;TZID=UTC:20220210T080000
DTEND;TZID=UTC:20220213T130000
DTSTAMP:20260423T204911
CREATED:20220210T130000Z
LAST-MODIFIED:20211130T220424Z
UID:4913-1644480000-1644757200@goodneighborsgroup.org
SUMMARY:S(o)uper Bowl 2022
DESCRIPTION:This event\, beginning the Thursday before the Super Bowl and culminating on Super Bowl Sunday\, is a fun competition between local neighborhoods to collect as much food as they can to restock local pantries at a time when shelves are bare.  Each participating neighborhood needs a Captain who can publicize the event and establish a neighborhood collection spot.  Items must be counted and delivered to the designated food pantry on Super Bowl Sunday. Winners are announced the following week in conjunction with Cafe Mezzanotte’s Community Partnership night where a portion of proceeds from all sales benefits GNG.  Make sure your neighborhood is represented! \nHere’s how to get involved
URL:https://goodneighborsgroup.org/event/souper-bowl-2022/
CATEGORIES:GNG Sponsored Event
END:VEVENT
BEGIN:VEVENT
DTSTART;TZID=UTC:20211208T080000
DTEND;TZID=UTC:20211215T170000
DTSTAMP:20260423T204911
CREATED:20211208T130000Z
LAST-MODIFIED:20211208T053531Z
UID:4959-1638950400-1639587600@goodneighborsgroup.org
SUMMARY:MDRRC Holiday Gift Collection
DESCRIPTION:Help our partner\, Maryland Reentry Resource Center\, provide 205 Annapolis students with holiday gifts. \nPlease drop off your donations now through December 15 at Park Books and Literacy Lab in Severna Park.
URL:https://goodneighborsgroup.org/event/mdrrc-holiday-gift-collection/
CATEGORIES:GNG Sponsored Event
ATTACH;FMTTYPE=image/jpeg:https://goodneighborsgroup.org/wp-content/uploads/2021/12/mdrrc.jpeg
END:VEVENT
BEGIN:VEVENT
DTSTART;TZID=UTC:20211103T080000
DTEND;TZID=UTC:20211121T170000
DTSTAMP:20260423T204911
CREATED:20211103T120000Z
LAST-MODIFIED:20211103T202145Z
UID:4696-1635926400-1637514000@goodneighborsgroup.org
SUMMARY:Share Your Coats
DESCRIPTION:Share Your Coats for men\, women and children! \nThrough November 21st\, GNG will collect coats to help folks stay warm this winter. Coats will be shared with Anne Arundel County families through Maryland Reentry Resource Center and with refugee families in Baltimore through Asylee Women Enterprise. Drop off at Garry’s Grill or The Big Bean through 11/21.
URL:https://goodneighborsgroup.org/event/share-your-coats/
CATEGORIES:GNG Sponsored Event
ATTACH;FMTTYPE=image/jpeg:https://goodneighborsgroup.org/wp-content/uploads/2021/11/Winter-Coat-Drive.jpg
END:VEVENT
BEGIN:VEVENT
DTSTART;TZID=UTC:20211103T080000
DTEND;TZID=UTC:20211119T170000
DTSTAMP:20260423T204911
CREATED:20211103T120000Z
LAST-MODIFIED:20211104T225334Z
UID:4704-1635926400-1637341200@goodneighborsgroup.org
SUMMARY:Food Drive
DESCRIPTION:Thanks to all of you\, we’re helping 165 families enjoy a Thanksgiving dinner!  We need your donations at Park Books and Literacy Lab by Friday\, November 19th. Use the link below for details.  We’d love your extra reusable grocery bags\, too! \nThanksgiving Food Sign Up
URL:https://goodneighborsgroup.org/event/thanksgiving-food-drive/
CATEGORIES:GNG Sponsored Event
ATTACH;FMTTYPE=image/png:https://goodneighborsgroup.org/wp-content/uploads/2021/11/Screen-Shot-2021-11-02-at-7.03.24-PM.png
END:VEVENT
END:VCALENDAR